BEGIN:VCALENDAR
VERSION:2.0
PRODID:-//Townsend Montana - ECPv6.15.20//NONSGML v1.0//EN
CALSCALE:GREGORIAN
METHOD:PUBLISH
X-ORIGINAL-URL:https://www.townsendmt.com
X-WR-CALDESC:Events for Townsend Montana
REFRESH-INTERVAL;VALUE=DURATION:PT1H
X-Robots-Tag:noindex
X-PUBLISHED-TTL:PT1H
BEGIN:VTIMEZONE
TZID:America/Denver
BEGIN:DAYLIGHT
TZOFFSETFROM:-0700
TZOFFSETTO:-0600
TZNAME:MDT
DTSTART:20180311T090000
END:DAYLIGHT
BEGIN:STANDARD
TZOFFSETFROM:-0600
TZOFFSETTO:-0700
TZNAME:MST
DTSTART:20181104T080000
END:STANDARD
BEGIN:DAYLIGHT
TZOFFSETFROM:-0700
TZOFFSETTO:-0600
TZNAME:MDT
DTSTART:20190310T090000
END:DAYLIGHT
BEGIN:STANDARD
TZOFFSETFROM:-0600
TZOFFSETTO:-0700
TZNAME:MST
DTSTART:20191103T080000
END:STANDARD
BEGIN:DAYLIGHT
TZOFFSETFROM:-0700
TZOFFSETTO:-0600
TZNAME:MDT
DTSTART:20200308T090000
END:DAYLIGHT
BEGIN:STANDARD
TZOFFSETFROM:-0600
TZOFFSETTO:-0700
TZNAME:MST
DTSTART:20201101T080000
END:STANDARD
BEGIN:DAYLIGHT
TZOFFSETFROM:-0700
TZOFFSETTO:-0600
TZNAME:MDT
DTSTART:20210314T090000
END:DAYLIGHT
BEGIN:STANDARD
TZOFFSETFROM:-0600
TZOFFSETTO:-0700
TZNAME:MST
DTSTART:20211107T080000
END:STANDARD
END:VTIMEZONE
BEGIN:VEVENT
DTSTART;TZID=America/Denver:20191203T120000
DTEND;TZID=America/Denver:20191203T140000
DTSTAMP:20260421T170112
CREATED:20191127T174345Z
LAST-MODIFIED:20191127T174345Z
UID:4379-1575374400-1575381600@www.townsendmt.com
SUMMARY:Trust Board Meeting
DESCRIPTION:Dec 3 2019 Trust Board agenda
URL:https://www.townsendmt.com/event/trust-board-meeting-11/
LOCATION:Broadwater County Courthouse\, 515 Broadway\, Townsend\, MT\, 59644\, United States
CATEGORIES:Broadwater County Calendar
END:VEVENT
BEGIN:VEVENT
DTSTART;VALUE=DATE:20191209
DTEND;VALUE=DATE:20191210
DTSTAMP:20260421T170112
CREATED:20191206T192516Z
LAST-MODIFIED:20191206T192516Z
UID:4426-1575849600-1575935999@www.townsendmt.com
SUMMARY:Commission Meeting
DESCRIPTION:12.9.19 Agenda – Official
URL:https://www.townsendmt.com/event/commission-meeting-43/
CATEGORIES:Broadwater County Calendar
END:VEVENT
BEGIN:VEVENT
DTSTART;TZID=America/Denver:20191210T150000
DTEND;TZID=America/Denver:20191210T170000
DTSTAMP:20260421T170112
CREATED:20191206T192703Z
LAST-MODIFIED:20191206T192703Z
UID:4430-1575990000-1575997200@www.townsendmt.com
SUMMARY:Planning Board Meeting
DESCRIPTION:12.10.19 Planning Bd agenda
URL:https://www.townsendmt.com/event/planning-board-meeting-9/
CATEGORIES:Broadwater County Calendar
END:VEVENT
BEGIN:VEVENT
DTSTART;TZID=America/Denver:20191216T100000
DTEND;TZID=America/Denver:20191216T120000
DTSTAMP:20260421T170112
CREATED:20191206T192619Z
LAST-MODIFIED:20191206T192619Z
UID:4428-1576490400-1576497600@www.townsendmt.com
SUMMARY:Commission Meeting
DESCRIPTION:12.16.19 Agenda – Official
URL:https://www.townsendmt.com/event/commission-meeting-44/
CATEGORIES:Broadwater County Calendar
END:VEVENT
BEGIN:VEVENT
DTSTART;TZID=America/Denver:20191216T100000
DTEND;TZID=America/Denver:20191216T120000
DTSTAMP:20260421T170112
CREATED:20191212T004308Z
LAST-MODIFIED:20191212T004308Z
UID:4468-1576490400-1576497600@www.townsendmt.com
SUMMARY:Commission Meeting
DESCRIPTION:12.16.19 Agenda – Official (002)
URL:https://www.townsendmt.com/event/commission-meeting-45/
LOCATION:Broadwater County Courthouse\, 515 Broadway\, Townsend\, MT\, 59644\, United States
CATEGORIES:Broadwater County Calendar
END:VEVENT
BEGIN:VEVENT
DTSTART;TZID=America/Denver:20191223T100000
DTEND;TZID=America/Denver:20191223T143000
DTSTAMP:20260421T170112
CREATED:20191218T190256Z
LAST-MODIFIED:20191218T190256Z
UID:4493-1577095200-1577111400@www.townsendmt.com
SUMMARY:Commission Meeting
DESCRIPTION:12.23.19 – official Commission agenda
URL:https://www.townsendmt.com/event/commission-meeting-46/
LOCATION:Broadwater County Courthouse\, 515 Broadway\, Townsend\, MT\, 59644\, United States
CATEGORIES:Broadwater County Calendar
END:VEVENT
BEGIN:VEVENT
DTSTART;TZID=America/Denver:20200106T100000
DTEND;TZID=America/Denver:20200106T120000
DTSTAMP:20260421T170112
CREATED:20200106T194549Z
LAST-MODIFIED:20200106T194549Z
UID:4583-1578304800-1578312000@www.townsendmt.com
SUMMARY:Commission meeting
DESCRIPTION:1.6.20 Official Commission agenda
URL:https://www.townsendmt.com/event/commission-meeting-47/
LOCATION:Broadwater County Courthouse\, 515 Broadway\, Townsend\, MT\, 59644\, United States
CATEGORIES:Broadwater County Calendar
END:VEVENT
BEGIN:VEVENT
DTSTART;TZID=America/Denver:20200107T120000
DTEND;TZID=America/Denver:20200107T130000
DTSTAMP:20260421T170112
CREATED:20200106T194209Z
LAST-MODIFIED:20200106T194209Z
UID:4574-1578398400-1578402000@www.townsendmt.com
SUMMARY:Trust Board meeting
DESCRIPTION:Jan 7th 2020 Trust Board agenda
URL:https://www.townsendmt.com/event/trust-board-meeting-12/
LOCATION:Broadwater County Courthouse\, 515 Broadway\, Townsend\, MT\, 59644\, United States
CATEGORIES:Broadwater County Calendar
END:VEVENT
BEGIN:VEVENT
DTSTART;TZID=America/Denver:20200113T100000
DTEND;TZID=America/Denver:20200113T163000
DTSTAMP:20260421T170112
CREATED:20200108T225151Z
LAST-MODIFIED:20200113T164137Z
UID:4622-1578909600-1578933000@www.townsendmt.com
SUMMARY:Commissioner Meeting
DESCRIPTION:1.13.20 Commission Agenda \nCivicClerk Proposal – Broadwater County MT \nCivicCMS -Broadwater County MT \nCopy of Copy of Workplan 2020-2021 updated 7.1.19 \nWebsite Development \n2019 Co Board vacancies \nSummaryReportJune-Dec2019
URL:https://www.townsendmt.com/event/commissioner-meeting-7/
LOCATION:Broadwater County Courthouse\, 515 Broadway\, Townsend\, MT\, 59644\, United States
CATEGORIES:Broadwater County Calendar
END:VEVENT
BEGIN:VEVENT
DTSTART;TZID=America/Denver:20200121T100000
DTEND;TZID=America/Denver:20200121T120000
DTSTAMP:20260421T170112
CREATED:20200115T192951Z
LAST-MODIFIED:20200115T192951Z
UID:4661-1579600800-1579608000@www.townsendmt.com
SUMMARY:Commission Meeting
DESCRIPTION:1.21.20 Commission agenda – official \nWork Plan approval letter 1.2020
URL:https://www.townsendmt.com/event/commission-meeting-48/
LOCATION:Broadwater County Courthouse\, 515 Broadway\, Townsend\, MT\, 59644\, United States
CATEGORIES:Broadwater County Calendar
END:VEVENT
BEGIN:VEVENT
DTSTART;TZID=America/Denver:20200123T150000
DTEND;TZID=America/Denver:20200123T170000
DTSTAMP:20260421T170112
CREATED:20200116T184744Z
LAST-MODIFIED:20200116T184744Z
UID:4682-1579791600-1579798800@www.townsendmt.com
SUMMARY:Planning Board meeting
DESCRIPTION:1.23.20 Planning Board agenda
URL:https://www.townsendmt.com/event/planning-board-meeting-10/
CATEGORIES:Broadwater County Calendar
END:VEVENT
BEGIN:VEVENT
DTSTART;TZID=America/Denver:20200127T000000
DTEND;TZID=America/Denver:20200127T000000
DTSTAMP:20260421T170112
CREATED:20200127T152026Z
LAST-MODIFIED:20200127T152026Z
UID:4576-1580083200-1580083200@www.townsendmt.com
SUMMARY:Commission meeting
DESCRIPTION:
URL:https://www.townsendmt.com/event/commission-meeting-49/
CATEGORIES:Broadwater County Calendar
END:VEVENT
BEGIN:VEVENT
DTSTART;TZID=America/Denver:20200127T000000
DTEND;TZID=America/Denver:20200127T000000
DTSTAMP:20260421T170112
CREATED:20200127T152049Z
LAST-MODIFIED:20200127T152049Z
UID:3617-1580083200-1580083200@www.townsendmt.com
SUMMARY:Commissioner Meeting
DESCRIPTION:
URL:https://www.townsendmt.com/event/commissioner-meeting-8/
CATEGORIES:Broadwater County Calendar
END:VEVENT
BEGIN:VEVENT
DTSTART;TZID=America/Denver:20200203T100000
DTEND;TZID=America/Denver:20200203T170000
DTSTAMP:20260421T170112
CREATED:20200129T235515Z
LAST-MODIFIED:20200130T000225Z
UID:4761-1580724000-1580749200@www.townsendmt.com
SUMMARY:Commission Meeting
DESCRIPTION:2.3.20 – official \nfurniture discussion for 2.3.20 agenda publ \nVWA grant – FY20
URL:https://www.townsendmt.com/event/commission-meeting-50/
LOCATION:Broadwater County Courthouse\, 515 Broadway\, Townsend\, MT\, 59644\, United States
CATEGORIES:Broadwater County Calendar
END:VEVENT
BEGIN:VEVENT
DTSTART;TZID=America/Denver:20200203T160000
DTEND;TZID=America/Denver:20200203T170000
DTSTAMP:20260421T170112
CREATED:20200131T171510Z
LAST-MODIFIED:20200131T171510Z
UID:4777-1580745600-1580749200@www.townsendmt.com
SUMMARY:Commission meeting
DESCRIPTION:2.3.20 – commission and hospital district board \n2003 ownership letter \nBrownfields cleanup contract \npetro funds update letter
URL:https://www.townsendmt.com/event/commission-meeting-51/
LOCATION:Broadwater County Courthouse\, 515 Broadway\, Townsend\, MT\, 59644\, United States
CATEGORIES:Broadwater County Calendar
END:VEVENT
BEGIN:VEVENT
DTSTART;TZID=America/Denver:20200204T100000
DTEND;TZID=America/Denver:20200204T110000
DTSTAMP:20260421T170112
CREATED:20200131T171550Z
LAST-MODIFIED:20200131T171550Z
UID:4779-1580810400-1580814000@www.townsendmt.com
SUMMARY:Commission meeting
DESCRIPTION:2.4.20 Silos Master Plan
URL:https://www.townsendmt.com/event/commission-meeting-52/
LOCATION:Broadwater County Courthouse\, 515 Broadway\, Townsend\, MT\, 59644\, United States
CATEGORIES:Broadwater County Calendar
END:VEVENT
BEGIN:VEVENT
DTSTART;TZID=America/Denver:20200204T120000
DTEND;TZID=America/Denver:20200204T140000
DTSTAMP:20260421T170112
CREATED:20200129T180531Z
LAST-MODIFIED:20200129T180531Z
UID:4746-1580817600-1580824800@www.townsendmt.com
SUMMARY:Trust Board meeting
DESCRIPTION:Feb 4 2020 Trust Board agenda
URL:https://www.townsendmt.com/event/trust-board-meeting-13/
LOCATION:Broadwater County Courthouse\, 515 Broadway\, Townsend\, MT\, 59644\, United States
CATEGORIES:Broadwater County Calendar
END:VEVENT
BEGIN:VEVENT
DTSTART;VALUE=DATE:20200210
DTEND;VALUE=DATE:20200211
DTSTAMP:20260421T170112
CREATED:20200205T180710Z
LAST-MODIFIED:20200205T180833Z
UID:4813-1581292800-1581379199@www.townsendmt.com
SUMMARY:Commission meeting
DESCRIPTION:2.10.20 xcl – official
URL:https://www.townsendmt.com/event/commission-meeting-53/
CATEGORIES:Broadwater County Calendar
END:VEVENT
BEGIN:VEVENT
DTSTART;TZID=America/Denver:20200218T090000
DTEND;TZID=America/Denver:20200218T120000
DTSTAMP:20260421T170112
CREATED:20200212T214922Z
LAST-MODIFIED:20200212T214922Z
UID:4863-1582016400-1582027200@www.townsendmt.com
SUMMARY:Commission Meeting
DESCRIPTION:2.18.20 – official (002)
URL:https://www.townsendmt.com/event/commission-meeting-54/
LOCATION:Broadwater County Courthouse\, 515 Broadway\, Townsend\, MT\, 59644\, United States
CATEGORIES:Broadwater County Calendar
END:VEVENT
BEGIN:VEVENT
DTSTART;TZID=America/Denver:20200220T150000
DTEND;TZID=America/Denver:20200220T170000
DTSTAMP:20260421T170112
CREATED:20200212T215009Z
LAST-MODIFIED:20200213T000545Z
UID:4865-1582210800-1582218000@www.townsendmt.com
SUMMARY:Planning Board Public Hearing and Regular Meeting
DESCRIPTION:Planning Board agenda \nBroadwater Growth Policy Final Draft 2020 \n  \n 
URL:https://www.townsendmt.com/event/planning-board-public-hearing-2/
LOCATION:Broadwater County Courthouse\, 515 Broadway\, Townsend\, MT\, 59644\, United States
CATEGORIES:Broadwater County Calendar
END:VEVENT
BEGIN:VEVENT
DTSTART;TZID=America/Denver:20200224T100000
DTEND;TZID=America/Denver:20200224T160000
DTSTAMP:20260421T170112
CREATED:20200220T182014Z
LAST-MODIFIED:20200220T182519Z
UID:4922-1582538400-1582560000@www.townsendmt.com
SUMMARY:Commission Meeting
DESCRIPTION:2.24.20 – official (003)
URL:https://www.townsendmt.com/event/commission-meeting-55/
LOCATION:Broadwater County Courthouse\, 515 Broadway\, Townsend\, MT\, 59644\, United States
CATEGORIES:Broadwater County Calendar
END:VEVENT
BEGIN:VEVENT
DTSTART;TZID=America/Denver:20200226T120000
DTEND;TZID=America/Denver:20200226T140000
DTSTAMP:20260421T170112
CREATED:20200224T182138Z
LAST-MODIFIED:20200224T182138Z
UID:4939-1582718400-1582725600@www.townsendmt.com
SUMMARY:Trust Board working meeting
DESCRIPTION:Trust Board working mtg Feb 2020 agenda
URL:https://www.townsendmt.com/event/trust-board-working-meeting/
LOCATION:Broadwater County Courthouse\, 515 Broadway\, Townsend\, MT\, 59644\, United States
CATEGORIES:Broadwater County Calendar
END:VEVENT
BEGIN:VEVENT
DTSTART;TZID=America/Denver:20200227T190000
DTEND;TZID=America/Denver:20200227T210000
DTSTAMP:20260421T170112
CREATED:20200225T232152Z
LAST-MODIFIED:20200225T232152Z
UID:4967-1582830000-1582837200@www.townsendmt.com
SUMMARY:Solid Waste Board working meeting
DESCRIPTION:SWB-Feb2020
URL:https://www.townsendmt.com/event/solid-waste-board-working-meeting/
CATEGORIES:Broadwater County Calendar
END:VEVENT
BEGIN:VEVENT
DTSTART;TZID=America/Denver:20200302T100000
DTEND;TZID=America/Denver:20200302T170000
DTSTAMP:20260421T170112
CREATED:20200226T190610Z
LAST-MODIFIED:20200226T190610Z
UID:4984-1583143200-1583168400@www.townsendmt.com
SUMMARY:Commission Meeting
DESCRIPTION:SILOS_TO1_MASTERPLAN \nSILOS_AGREEMENT \nDept. of Justice Motor Vehicle Drivers License Lease \n3.2.20 – official \n2-18-20 Co Commission Meeting Draft DES Interlocal Agreement
URL:https://www.townsendmt.com/event/commission-meeting-56/
CATEGORIES:Broadwater County Calendar
END:VEVENT
BEGIN:VEVENT
DTSTART;TZID=America/Denver:20200303T120000
DTEND;TZID=America/Denver:20200303T120000
DTSTAMP:20260421T170112
CREATED:20200228T172207Z
LAST-MODIFIED:20200228T172207Z
UID:4993-1583236800-1583236800@www.townsendmt.com
SUMMARY:Broadwater County Trust Board Meeting
DESCRIPTION:Location: Courthouse Basement – 515 Broadway\nTime: Noon\nClick Here for Agenda
URL:https://www.townsendmt.com/event/broadwater-county-trust-board-meeting/
CATEGORIES:Broadwater County Calendar
END:VEVENT
BEGIN:VEVENT
DTSTART;TZID=America/Denver:20200309T100000
DTEND;TZID=America/Denver:20200309T100000
DTSTAMP:20260421T170112
CREATED:20200304T215342Z
LAST-MODIFIED:20200304T215533Z
UID:4998-1583748000-1583748000@www.townsendmt.com
SUMMARY:Commission Meeting
DESCRIPTION:March 9 at 10 am in basement of courthouse. \nClick Here for Agenda
URL:https://www.townsendmt.com/event/commission-meeting-57/
CATEGORIES:Broadwater County Calendar
END:VEVENT
BEGIN:VEVENT
DTSTART;TZID=America/Denver:20200317T100000
DTEND;TZID=America/Denver:20200317T100000
DTSTAMP:20260421T170112
CREATED:20200316T211233Z
LAST-MODIFIED:20200316T211233Z
UID:5077-1584439200-1584439200@www.townsendmt.com
SUMMARY:Trust Board Meeting for Tuesday March 17th is postponed
DESCRIPTION:
URL:https://www.townsendmt.com/event/trust-board-meeting-for-tuesday-march-17th-is-postponed/
CATEGORIES:Broadwater County Calendar
END:VEVENT
BEGIN:VEVENT
DTSTART;TZID=America/Denver:20200323T080000
DTEND;TZID=America/Denver:20200323T170000
DTSTAMP:20260421T170112
CREATED:20200318T214458Z
LAST-MODIFIED:20200320T220036Z
UID:5137-1584950400-1584982800@www.townsendmt.com
SUMMARY:Commission Meeting
DESCRIPTION:3.23.20 – Legal strategy-Schmaus
URL:https://www.townsendmt.com/event/commission-meeting-cancelled/
CATEGORIES:Broadwater County Calendar
END:VEVENT
BEGIN:VEVENT
DTSTART;TZID=America/Denver:20200327T120000
DTEND;TZID=America/Denver:20200327T170000
DTSTAMP:20260421T170112
CREATED:20200323T231614Z
LAST-MODIFIED:20200326T191240Z
UID:5187-1585310400-1585328400@www.townsendmt.com
SUMMARY:Trust Board - CANCELLED
DESCRIPTION:
URL:https://www.townsendmt.com/event/trust-board/
CATEGORIES:Broadwater County Calendar
END:VEVENT
BEGIN:VEVENT
DTSTART;TZID=America/Denver:20200330T100000
DTEND;TZID=America/Denver:20200330T170000
DTSTAMP:20260421T170112
CREATED:20200325T211359Z
LAST-MODIFIED:20200327T184002Z
UID:5217-1585562400-1585587600@www.townsendmt.com
SUMMARY:Commission Agenda - CANCELLED
DESCRIPTION:This meeting has been cancelled due to Governor Bullock’s ‘Stay Home Directive’ \n 
URL:https://www.townsendmt.com/event/commission-agenda/
CATEGORIES:Broadwater County Calendar
END:VEVENT
END:VCALENDAR