BEGIN:VCALENDAR
VERSION:2.0
PRODID:-//Townsend Montana - ECPv6.15.20//NONSGML v1.0//EN
CALSCALE:GREGORIAN
METHOD:PUBLISH
X-ORIGINAL-URL:https://www.townsendmt.com
X-WR-CALDESC:Events for Townsend Montana
REFRESH-INTERVAL;VALUE=DURATION:PT1H
X-Robots-Tag:noindex
X-PUBLISHED-TTL:PT1H
BEGIN:VTIMEZONE
TZID:America/Denver
BEGIN:DAYLIGHT
TZOFFSETFROM:-0700
TZOFFSETTO:-0600
TZNAME:MDT
DTSTART:20190310T090000
END:DAYLIGHT
BEGIN:STANDARD
TZOFFSETFROM:-0600
TZOFFSETTO:-0700
TZNAME:MST
DTSTART:20191103T080000
END:STANDARD
BEGIN:DAYLIGHT
TZOFFSETFROM:-0700
TZOFFSETTO:-0600
TZNAME:MDT
DTSTART:20200308T090000
END:DAYLIGHT
BEGIN:STANDARD
TZOFFSETFROM:-0600
TZOFFSETTO:-0700
TZNAME:MST
DTSTART:20201101T080000
END:STANDARD
BEGIN:DAYLIGHT
TZOFFSETFROM:-0700
TZOFFSETTO:-0600
TZNAME:MDT
DTSTART:20210314T090000
END:DAYLIGHT
BEGIN:STANDARD
TZOFFSETFROM:-0600
TZOFFSETTO:-0700
TZNAME:MST
DTSTART:20211107T080000
END:STANDARD
END:VTIMEZONE
BEGIN:VEVENT
DTSTART;TZID=America/Denver:20200511T130000
DTEND;TZID=America/Denver:20200511T150000
DTSTAMP:20260421T072227
CREATED:20200508T232531Z
LAST-MODIFIED:20200508T232531Z
UID:5540-1589202000-1589209200@www.townsendmt.com
SUMMARY:Board of Health meeting
DESCRIPTION:5-11-20 Rev Agenda_Board Of Health \nHow to Wear a Cloth Face Covering
URL:https://www.townsendmt.com/event/board-of-health-meeting-5/
CATEGORIES:Broadwater County Calendar
END:VEVENT
BEGIN:VEVENT
DTSTART;TZID=America/Denver:20200518T080000
DTEND;TZID=America/Denver:20200518T170000
DTSTAMP:20260421T072227
CREATED:20200513T181645Z
LAST-MODIFIED:20200514T173811Z
UID:5594-1589788800-1589821200@www.townsendmt.com
SUMMARY:Commission meeting
DESCRIPTION:5.18.20 official – with 4.20.20 \nAirport CIP \nLAC bylaws (1) \nSilos fee increase resolution 5.2020 \nDPHHS Alcohol Tax \nCIP Resolution \nBHC letter for Peer to Peer supervision \napproved claims \nStatement of Expenditure – Budget vs. Ac \nRevenue Budget vs. Actual Query
URL:https://www.townsendmt.com/event/commission-meeting-63/
LOCATION:Broadwater County Courthouse\, 515 Broadway\, Townsend\, MT\, 59644\, United States
CATEGORIES:Broadwater County Calendar
END:VEVENT
BEGIN:VEVENT
DTSTART;TZID=America/Denver:20200520T150000
DTEND;TZID=America/Denver:20200520T170000
DTSTAMP:20260421T072227
CREATED:20200511T171246Z
LAST-MODIFIED:20200511T171256Z
UID:5556-1589986800-1589994000@www.townsendmt.com
SUMMARY:Planning Board meeting
DESCRIPTION:5.20.20 Planning Bd agenda
URL:https://www.townsendmt.com/event/planning-board-meeting-11/
CATEGORIES:Broadwater County Calendar
END:VEVENT
BEGIN:VEVENT
DTSTART;TZID=America/Denver:20200526T100000
DTEND;TZID=America/Denver:20200526T130000
DTSTAMP:20260421T072227
CREATED:20200520T191116Z
LAST-MODIFIED:20200521T200326Z
UID:5669-1590487200-1590498000@www.townsendmt.com
SUMMARY:Commission meeting
DESCRIPTION:5.26.20 official revised \nPlacer School Application Packet \nLAC bylaws \nDUI Task Force \nDUI Task Force 1 \nDUI Task Force 2 \nDUI Task Force 3 \nDUI Task Force 4 \nAirport Lease Folkvord \nAirport Lease Irving \n 
URL:https://www.townsendmt.com/event/commission-meeting-64/
CATEGORIES:Broadwater County Calendar
END:VEVENT
BEGIN:VEVENT
DTSTART;TZID=America/Denver:20200601T100000
DTEND;TZID=America/Denver:20200601T120000
DTSTAMP:20260421T072227
CREATED:20200527T211354Z
LAST-MODIFIED:20200527T211451Z
UID:5727-1591005600-1591012800@www.townsendmt.com
SUMMARY:Commission Meeting
DESCRIPTION:6.01.20 – official \n6-1-20 pub hearing FY 19-20 budget amendment \nBUDGET AMEND FYE 19-20 March 2020 \ndraft RESOLUTION -Budget Amend -6-1-2020 \n 
URL:https://www.townsendmt.com/event/commission-meeting-65/
LOCATION:Broadwater County Courthouse\, 515 Broadway\, Townsend\, MT\, 59644\, United States
CATEGORIES:Broadwater County Calendar
END:VEVENT
BEGIN:VEVENT
DTSTART;TZID=America/Denver:20200602T120000
DTEND;TZID=America/Denver:20200602T140000
DTSTAMP:20260421T072227
CREATED:20200527T222248Z
LAST-MODIFIED:20200527T222248Z
UID:5738-1591099200-1591106400@www.townsendmt.com
SUMMARY:Trust Board Meeting
DESCRIPTION:Trust Board 6.2.20 agenda
URL:https://www.townsendmt.com/event/trust-board-meeting-14/
LOCATION:Broadwater County Courthouse\, 515 Broadway\, Townsend\, MT\, 59644\, United States
CATEGORIES:Broadwater County Calendar
END:VEVENT
BEGIN:VEVENT
DTSTART;TZID=America/Denver:20200602T143000
DTEND;TZID=America/Denver:20200602T170000
DTSTAMP:20260421T072227
CREATED:20200601T183500Z
LAST-MODIFIED:20200601T201312Z
UID:5757-1591108200-1591117200@www.townsendmt.com
SUMMARY:Planning Board meeting
DESCRIPTION:6.1.20 Planning Board agenda
URL:https://www.townsendmt.com/event/planning-board-meeting-12/
LOCATION:Broadwater County Courthouse\, 515 Broadway\, Townsend\, MT\, 59644\, United States
CATEGORIES:Broadwater County Calendar
END:VEVENT
BEGIN:VEVENT
DTSTART;TZID=America/Denver:20200603T090000
DTEND;TZID=America/Denver:20200603T120000
DTSTAMP:20260421T072227
CREATED:20200527T211546Z
LAST-MODIFIED:20200527T211546Z
UID:5729-1591174800-1591185600@www.townsendmt.com
SUMMARY:Commission Meeting
DESCRIPTION:6.01.20 – official
URL:https://www.townsendmt.com/event/commission-meeting-66/
LOCATION:Broadwater County Courthouse\, 515 Broadway\, Townsend\, MT\, 59644\, United States
CATEGORIES:Broadwater County Calendar
END:VEVENT
BEGIN:VEVENT
DTSTART;TZID=America/Denver:20200610T100000
DTEND;TZID=America/Denver:20200610T170000
DTSTAMP:20260421T072227
CREATED:20200610T193746Z
LAST-MODIFIED:20200610T193800Z
UID:5799-1591783200-1591808400@www.townsendmt.com
SUMMARY:Commission Meeting
DESCRIPTION:6.15.20 – official final \nMT-CDBG-PL-17-03A Ammendment
URL:https://www.townsendmt.com/event/commission-meeting-67/
LOCATION:Broadwater County Courthouse\, 515 Broadway\, Townsend\, MT\, 59644\, United States
CATEGORIES:Broadwater County Calendar
END:VEVENT
BEGIN:VEVENT
DTSTART;TZID=America/Denver:20200622T100000
DTEND;TZID=America/Denver:20200622T170000
DTSTAMP:20260421T072227
CREATED:20200618T182934Z
LAST-MODIFIED:20200618T182934Z
UID:5850-1592820000-1592845200@www.townsendmt.com
SUMMARY:Commission Meeting
DESCRIPTION:6.22.20 – official draft \nAirport Lease Reck
URL:https://www.townsendmt.com/event/commission-meeting-68/
CATEGORIES:Broadwater County Calendar
END:VEVENT
BEGIN:VEVENT
DTSTART;TZID=America/Denver:20200623T090000
DTEND;TZID=America/Denver:20200623T170000
DTSTAMP:20260421T072227
CREATED:20200622T184307Z
LAST-MODIFIED:20200622T184307Z
UID:5868-1592902800-1592931600@www.townsendmt.com
SUMMARY:Commission Meeting
DESCRIPTION:6.22.20 – official final
URL:https://www.townsendmt.com/event/commission-meeting-69/
CATEGORIES:Broadwater County Calendar
END:VEVENT
BEGIN:VEVENT
DTSTART;TZID=America/Denver:20200624T100000
DTEND;TZID=America/Denver:20200624T120000
DTSTAMP:20260421T072227
CREATED:20200622T184346Z
LAST-MODIFIED:20200622T184346Z
UID:5870-1592992800-1593000000@www.townsendmt.com
SUMMARY:Commission Meeting
DESCRIPTION:6.22.20 – official final
URL:https://www.townsendmt.com/event/commission-meeting-70/
CATEGORIES:Broadwater County Calendar
END:VEVENT
BEGIN:VEVENT
DTSTART;TZID=America/Denver:20200624T143000
DTEND;TZID=America/Denver:20200624T170000
DTSTAMP:20260421T072227
CREATED:20200622T184227Z
LAST-MODIFIED:20200622T184227Z
UID:5866-1593009000-1593018000@www.townsendmt.com
SUMMARY:Planning Board Meeting
DESCRIPTION:6.24.20 Planning Board agenda
URL:https://www.townsendmt.com/event/planning-board-meeting-13/
CATEGORIES:Broadwater County Calendar
END:VEVENT
BEGIN:VEVENT
DTSTART;TZID=America/Denver:20200625T100000
DTEND;TZID=America/Denver:20200625T120000
DTSTAMP:20260421T072227
CREATED:20200622T184413Z
LAST-MODIFIED:20200622T184413Z
UID:5872-1593079200-1593086400@www.townsendmt.com
SUMMARY:Commission Meeting
DESCRIPTION:6.22.20 – official final
URL:https://www.townsendmt.com/event/commission-meeting-71/
CATEGORIES:Broadwater County Calendar
END:VEVENT
BEGIN:VEVENT
DTSTART;TZID=America/Denver:20200629T080000
DTEND;TZID=America/Denver:20200629T170000
DTSTAMP:20260421T072227
CREATED:20200624T230353Z
LAST-MODIFIED:20200624T230428Z
UID:5885-1593417600-1593450000@www.townsendmt.com
SUMMARY:Commission Meeting
DESCRIPTION:6.29.20 Commission agenda – official final
URL:https://www.townsendmt.com/event/commission-meeting-72/
CATEGORIES:Broadwater County Calendar
END:VEVENT
BEGIN:VEVENT
DTSTART;TZID=America/Denver:20200630T193000
DTEND;TZID=America/Denver:20200630T213000
DTSTAMP:20260421T072227
CREATED:20200630T184627Z
LAST-MODIFIED:20200630T184627Z
UID:5910-1593545400-1593552600@www.townsendmt.com
SUMMARY:Fair Board meeting
DESCRIPTION:6.30.20 Fair Board agenda
URL:https://www.townsendmt.com/event/fair-board-meeting-2/
CATEGORIES:Broadwater County Calendar
END:VEVENT
BEGIN:VEVENT
DTSTART;TZID=America/Denver:20200706T100000
DTEND;TZID=America/Denver:20200706T170000
DTSTAMP:20260421T072227
CREATED:20200701T232836Z
LAST-MODIFIED:20200701T232917Z
UID:5936-1594029600-1594054800@www.townsendmt.com
SUMMARY:Commission Meeting
DESCRIPTION:7.06.20 Commission Agenda \n4202-Family Transfer \nMostad affidavit \nResolution 2020 Establishing Broadwater Co Ambulance Dist \nWorker Comp Quote 2020-2021
URL:https://www.townsendmt.com/event/commission-meeting-73/
LOCATION:Opportunity Building\, 416 Broadway
CATEGORIES:Broadwater County Calendar
END:VEVENT
BEGIN:VEVENT
DTSTART;TZID=America/Denver:20200707T120000
DTEND;TZID=America/Denver:20200707T140000
DTSTAMP:20260421T072227
CREATED:20200630T184709Z
LAST-MODIFIED:20200630T184716Z
UID:5912-1594123200-1594130400@www.townsendmt.com
SUMMARY:Trust Board meeting
DESCRIPTION:7.7.20 Trust Board agenda
URL:https://www.townsendmt.com/event/trust-board-meeting-15/
CATEGORIES:Broadwater County Calendar
END:VEVENT
BEGIN:VEVENT
DTSTART;TZID=America/Denver:20200713T100000
DTEND;TZID=America/Denver:20200713T170000
DTSTAMP:20260421T072227
CREATED:20200708T230727Z
LAST-MODIFIED:20200708T231041Z
UID:5971-1594634400-1594659600@www.townsendmt.com
SUMMARY:Commission Meeting
DESCRIPTION:7.13.20 – official final \nBroadwater County Alcohol Tax Designation Form FY2021 \nCounty Pledge of TIF Revenue \nMACo WCSG Agreement \n 
URL:https://www.townsendmt.com/event/commission-meeting-74/
LOCATION:Opportunity Building\, 416 Broadway
CATEGORIES:Broadwater County Calendar
END:VEVENT
BEGIN:VEVENT
DTSTART;TZID=America/Denver:20200715T153000
DTEND;TZID=America/Denver:20200715T170000
DTSTAMP:20260421T072227
CREATED:20200713T180133Z
LAST-MODIFIED:20200713T180133Z
UID:6003-1594827000-1594832400@www.townsendmt.com
SUMMARY:Mosquito Board meeting
DESCRIPTION:July Mosquito Board Agenda
URL:https://www.townsendmt.com/event/mosquito-board-meeting/
CATEGORIES:Broadwater County Calendar
END:VEVENT
BEGIN:VEVENT
DTSTART;TZID=America/Denver:20200715T190000
DTEND;TZID=America/Denver:20200715T210000
DTSTAMP:20260421T072227
CREATED:20200713T172949Z
LAST-MODIFIED:20200714T221514Z
UID:6001-1594839600-1594846800@www.townsendmt.com
SUMMARY:Weed Board meeting - CANCELLED
DESCRIPTION:July Weed Board Agenda \nCANCELLED  due to lack of a quorum
URL:https://www.townsendmt.com/event/weed-board-meeting-4/
CATEGORIES:Broadwater County Calendar
END:VEVENT
BEGIN:VEVENT
DTSTART;TZID=America/Denver:20200720T100000
DTEND;TZID=America/Denver:20200720T170000
DTSTAMP:20260421T072227
CREATED:20200715T224547Z
LAST-MODIFIED:20200715T224547Z
UID:6026-1595239200-1595264400@www.townsendmt.com
SUMMARY:Commission Meeting
DESCRIPTION:7.20.20 – official final \nCounty closeout letter Revised 20200714 \nCutshaw COS \nHorne Court Ordered PartitionCR \nINTERCAP Loan Resolution (1) \nINTERCAP Loan Resolution
URL:https://www.townsendmt.com/event/commission-meeting-75/
LOCATION:Opportunity Building\, 416 Broadway
CATEGORIES:Broadwater County Calendar
END:VEVENT
BEGIN:VEVENT
DTSTART;TZID=America/Denver:20200727T100000
DTEND;TZID=America/Denver:20200727T170000
DTSTAMP:20260421T072227
CREATED:20200722T222308Z
LAST-MODIFIED:20200727T155602Z
UID:6081-1595844000-1595869200@www.townsendmt.com
SUMMARY:Commission Meeting
DESCRIPTION:7.27.20 – official final \nBroadwater County MSA – CPMedia \nBroadwater County SOW – CPMedia \nCounty closeout letter Revised 20200714 \nCutshaw COS \nHorne Court Ordered PartitionCR \nRMDC Homemaker- Respit Care-Skilled Nursing Grant \nJV Trailer Bids \nINTERCAP Loan Resolution
URL:https://www.townsendmt.com/event/commission-meeting-76/
LOCATION:Opportunity Building\, 416 Broadway
CATEGORIES:Broadwater County Calendar
END:VEVENT
BEGIN:VEVENT
DTSTART;TZID=America/Denver:20200801T090000
DTEND;TZID=America/Denver:20200801T130000
DTSTAMP:20260421T072227
CREATED:20200708T230955Z
LAST-MODIFIED:20200826T202904Z
UID:5976-1596272400-1596286800@www.townsendmt.com
SUMMARY:Silos Master Plan public meeting
DESCRIPTION:Silos_PublicMeeting1_Flyer_1page
URL:https://www.townsendmt.com/event/silos-master-plan-public-meeting/
LOCATION:Silos RV Park
CATEGORIES:Broadwater County Calendar,Broadwater Events Calendar
END:VEVENT
BEGIN:VEVENT
DTSTART;TZID=America/Denver:20200803T100000
DTEND;TZID=America/Denver:20200803T110000
DTSTAMP:20260421T072227
CREATED:20200731T200746Z
LAST-MODIFIED:20200731T200746Z
UID:6117-1596448800-1596452400@www.townsendmt.com
SUMMARY:Commission Meeting
DESCRIPTION:8.3.20 – official final3 \nIndian Creek-Silos Land Acquisition \nDatec Equipment Quote
URL:https://www.townsendmt.com/event/commission-meeting-77/
LOCATION:Opportunity Building\, 416 Broadway
CATEGORIES:Broadwater County Calendar
END:VEVENT
BEGIN:VEVENT
DTSTART;TZID=America/Denver:20200804T120000
DTEND;TZID=America/Denver:20200804T140000
DTSTAMP:20260421T072227
CREATED:20200727T153708Z
LAST-MODIFIED:20200727T153708Z
UID:6088-1596542400-1596549600@www.townsendmt.com
SUMMARY:Trust Board meeting
DESCRIPTION:8.4.20 Trust Board agenda
URL:https://www.townsendmt.com/event/trust-board-meeting-16/
LOCATION:Opportunity Building\, 416 Broadway
CATEGORIES:Broadwater County Calendar
END:VEVENT
BEGIN:VEVENT
DTSTART;TZID=America/Denver:20200805T153000
DTEND;TZID=America/Denver:20200805T170000
DTSTAMP:20260421T072227
CREATED:20200805T162838Z
LAST-MODIFIED:20200805T202538Z
UID:6139-1596641400-1596646800@www.townsendmt.com
SUMMARY:Planning Board meeting - CANCELLED
DESCRIPTION:8.5.20 Planning Board agenda
URL:https://www.townsendmt.com/event/planning-board-meeting-14/
LOCATION:Opportunity Building\, 416 Broadway
CATEGORIES:Broadwater County Calendar
END:VEVENT
BEGIN:VEVENT
DTSTART;TZID=America/Denver:20200810T100000
DTEND;TZID=America/Denver:20200810T170000
DTSTAMP:20260421T072227
CREATED:20200731T200838Z
LAST-MODIFIED:20200731T200956Z
UID:6119-1597053600-1597078800@www.townsendmt.com
SUMMARY:Commission Meeting
DESCRIPTION:Joint Resolution Rail Authority 7-17-20 \n062420 Passenger Rail Summit Press Release \nPassenger rail authority FAQ \nrail authority one-pager \nSouthern Montana and Southern North Dakota Amtrak
URL:https://www.townsendmt.com/event/commission-meeting-78/
LOCATION:Opportunity Building\, 416 Broadway
CATEGORIES:Broadwater County Calendar
END:VEVENT
BEGIN:VEVENT
DTSTART;TZID=America/Denver:20200810T100000
DTEND;TZID=America/Denver:20200810T170000
DTSTAMP:20260421T072227
CREATED:20200806T230227Z
LAST-MODIFIED:20200806T230241Z
UID:6153-1597053600-1597078800@www.townsendmt.com
SUMMARY:Commission Meeting
DESCRIPTION:8.10.20 – official final \nBroadwater Co-GWE Subdivision Regulation Update Contract \nPassenger rail authority FAQ \nrail authority one-pager \nResolution Printed Version \nSidewalk Construction Agreement
URL:https://www.townsendmt.com/event/commission-meeting-79/
LOCATION:Opportunity Building\, 416 Broadway
CATEGORIES:Broadwater County Calendar
END:VEVENT
BEGIN:VEVENT
DTSTART;TZID=America/Denver:20200817T100000
DTEND;TZID=America/Denver:20200817T110000
DTSTAMP:20260421T072227
CREATED:20200813T223228Z
LAST-MODIFIED:20200813T223228Z
UID:6206-1597658400-1597662000@www.townsendmt.com
SUMMARY:Commission Meeting
DESCRIPTION:8.17.20 – official final \nModification to Grant Contract 2021-004-007
URL:https://www.townsendmt.com/event/commission-meeting-80/
LOCATION:Opportunity Building\, 416 Broadway
CATEGORIES:Broadwater County Calendar
END:VEVENT
END:VCALENDAR