BEGIN:VCALENDAR
VERSION:2.0
PRODID:-//Townsend Montana - ECPv6.15.20//NONSGML v1.0//EN
CALSCALE:GREGORIAN
METHOD:PUBLISH
X-ORIGINAL-URL:https://www.townsendmt.com
X-WR-CALDESC:Events for Townsend Montana
REFRESH-INTERVAL;VALUE=DURATION:PT1H
X-Robots-Tag:noindex
X-PUBLISHED-TTL:PT1H
BEGIN:VTIMEZONE
TZID:America/Denver
BEGIN:DAYLIGHT
TZOFFSETFROM:-0700
TZOFFSETTO:-0600
TZNAME:MDT
DTSTART:20180311T090000
END:DAYLIGHT
BEGIN:STANDARD
TZOFFSETFROM:-0600
TZOFFSETTO:-0700
TZNAME:MST
DTSTART:20181104T080000
END:STANDARD
BEGIN:DAYLIGHT
TZOFFSETFROM:-0700
TZOFFSETTO:-0600
TZNAME:MDT
DTSTART:20190310T090000
END:DAYLIGHT
BEGIN:STANDARD
TZOFFSETFROM:-0600
TZOFFSETTO:-0700
TZNAME:MST
DTSTART:20191103T080000
END:STANDARD
BEGIN:DAYLIGHT
TZOFFSETFROM:-0700
TZOFFSETTO:-0600
TZNAME:MDT
DTSTART:20200308T090000
END:DAYLIGHT
BEGIN:STANDARD
TZOFFSETFROM:-0600
TZOFFSETTO:-0700
TZNAME:MST
DTSTART:20201101T080000
END:STANDARD
END:VTIMEZONE
BEGIN:VEVENT
DTSTART;TZID=America/Denver:20190617T143000
DTEND;TZID=America/Denver:20190617T170000
DTSTAMP:20260421T162028
CREATED:20190613T223905Z
LAST-MODIFIED:20190613T223934Z
UID:3228-1560781800-1560790800@www.townsendmt.com
SUMMARY:Planning Board meeting
DESCRIPTION:6.17.19 Planning Board agenda
URL:https://www.townsendmt.com/event/planning-board-meeting-4/
CATEGORIES:Broadwater County Calendar
END:VEVENT
BEGIN:VEVENT
DTSTART;TZID=America/Denver:20190619T130000
DTEND;TZID=America/Denver:20190619T150000
DTSTAMP:20260421T162028
CREATED:20190618T165911Z
LAST-MODIFIED:20190618T165911Z
UID:3261-1560949200-1560956400@www.townsendmt.com
SUMMARY:Board of Health meeting
DESCRIPTION:BOH agenda
URL:https://www.townsendmt.com/event/board-of-health-meeting-2/
CATEGORIES:Broadwater County Calendar
END:VEVENT
BEGIN:VEVENT
DTSTART;TZID=America/Denver:20190624T100000
DTEND;TZID=America/Denver:20190624T140000
DTSTAMP:20260421T162028
CREATED:20190624T153324Z
LAST-MODIFIED:20190624T153324Z
UID:3298-1561370400-1561384800@www.townsendmt.com
SUMMARY:Commission Meeting
DESCRIPTION:6.24.19 – official
URL:https://www.townsendmt.com/event/commission-meeting-18/
CATEGORIES:Broadwater County Calendar
END:VEVENT
BEGIN:VEVENT
DTSTART;TZID=America/Denver:20190626T083000
DTEND;TZID=America/Denver:20190626T100000
DTSTAMP:20260421T162028
CREATED:20190624T153448Z
LAST-MODIFIED:20190624T153658Z
UID:3300-1561537800-1561543200@www.townsendmt.com
SUMMARY:Board of Health
DESCRIPTION:BOH agenda
URL:https://www.townsendmt.com/event/board-of-health-3/
CATEGORIES:Broadwater County Calendar
END:VEVENT
BEGIN:VEVENT
DTSTART;TZID=America/Denver:20190708T100000
DTEND;TZID=America/Denver:20190708T130000
DTSTAMP:20260421T162028
CREATED:20190703T182607Z
LAST-MODIFIED:20190703T182607Z
UID:3390-1562580000-1562590800@www.townsendmt.com
SUMMARY:Commissioner Meeting
DESCRIPTION:7.8 10.2019 – official -3-
URL:https://www.townsendmt.com/event/commissioner-meeting-2/
CATEGORIES:Broadwater County Calendar
END:VEVENT
BEGIN:VEVENT
DTSTART;TZID=America/Denver:20190708T180000
DTEND;TZID=America/Denver:20190708T193000
DTSTAMP:20260421T162028
CREATED:20190703T182756Z
LAST-MODIFIED:20190703T182756Z
UID:3395-1562608800-1562614200@www.townsendmt.com
SUMMARY:Recreation Board meeting
DESCRIPTION:
URL:https://www.townsendmt.com/event/recreation-board-meeting-3/
CATEGORIES:Broadwater County Calendar
END:VEVENT
BEGIN:VEVENT
DTSTART;TZID=America/Denver:20190710T173000
DTEND;TZID=America/Denver:20190710T210000
DTSTAMP:20260421T162028
CREATED:20190703T182721Z
LAST-MODIFIED:20190703T182721Z
UID:3392-1562779800-1562792400@www.townsendmt.com
SUMMARY:Commissioner Meeting - Wheatland area
DESCRIPTION:7.8 10.2019 – official -3-
URL:https://www.townsendmt.com/event/commissioner-meeting-wheatland-area/
LOCATION:Headwaters Livestock\, MT\, United States
CATEGORIES:Broadwater County Calendar
END:VEVENT
BEGIN:VEVENT
DTSTART;TZID=America/Denver:20190715T090000
DTEND;TZID=America/Denver:20190715T130000
DTSTAMP:20260421T162028
CREATED:20190715T185122Z
LAST-MODIFIED:20190715T185209Z
UID:3452-1563181200-1563195600@www.townsendmt.com
SUMMARY:Commission meeting
DESCRIPTION:7.15 17.2019 – official
URL:https://www.townsendmt.com/event/commission-meeting-19/
CATEGORIES:Broadwater County Calendar
END:VEVENT
BEGIN:VEVENT
DTSTART;TZID=America/Denver:20190717T083000
DTEND;TZID=America/Denver:20190717T090000
DTSTAMP:20260421T162028
CREATED:20190715T231849Z
LAST-MODIFIED:20190715T231909Z
UID:3457-1563352200-1563354000@www.townsendmt.com
SUMMARY:Commissioner Meeting
DESCRIPTION:7.17.19 agenda
URL:https://www.townsendmt.com/event/county-commissioner-meeting/
CATEGORIES:Broadwater County Calendar
END:VEVENT
BEGIN:VEVENT
DTSTART;TZID=America/Denver:20190717T090000
DTEND;TZID=America/Denver:20190717T130000
DTSTAMP:20260421T162028
CREATED:20190715T185255Z
LAST-MODIFIED:20190715T185312Z
UID:3454-1563354000-1563368400@www.townsendmt.com
SUMMARY:Commission meeting
DESCRIPTION:7.15 17.2019 – official
URL:https://www.townsendmt.com/event/commission-meeting-20/
CATEGORIES:Broadwater County Calendar
END:VEVENT
BEGIN:VEVENT
DTSTART;TZID=America/Denver:20190717T130000
DTEND;TZID=America/Denver:20190717T150000
DTSTAMP:20260421T162028
CREATED:20190715T185028Z
LAST-MODIFIED:20190715T185028Z
UID:3450-1563368400-1563375600@www.townsendmt.com
SUMMARY:Board of Health meeting
DESCRIPTION:7.17.19 BoH agenda
URL:https://www.townsendmt.com/event/board-of-health-meeting-3/
LOCATION:Broadwater County Courthouse\, 515 Broadway\, Townsend\, MT\, 59644\, United States
CATEGORIES:Broadwater County Calendar
END:VEVENT
BEGIN:VEVENT
DTSTART;TZID=America/Denver:20190717T190000
DTEND;TZID=America/Denver:20190717T210000
DTSTAMP:20260421T162028
CREATED:20190716T212926Z
LAST-MODIFIED:20190716T212926Z
UID:3470-1563390000-1563397200@www.townsendmt.com
SUMMARY:Airport Board meeting
DESCRIPTION:Airport Bd agenda 7.17.19
URL:https://www.townsendmt.com/event/airport-board-meeting-2/
CATEGORIES:Broadwater County Calendar
END:VEVENT
BEGIN:VEVENT
DTSTART;TZID=America/Denver:20190717T190000
DTEND;TZID=America/Denver:20190717T210000
DTSTAMP:20260421T162028
CREATED:20190716T213219Z
LAST-MODIFIED:20190716T213219Z
UID:3474-1563390000-1563397200@www.townsendmt.com
SUMMARY:Weed Board meeting
DESCRIPTION:Weed Bd agenda 7.17.19
URL:https://www.townsendmt.com/event/weed-board-meeting-3/
LOCATION:Broadwater County Courthouse\, 515 Broadway\, Townsend\, MT\, 59644\, United States
CATEGORIES:Broadwater County Calendar
END:VEVENT
BEGIN:VEVENT
DTSTART;TZID=America/Denver:20190717T193000
DTEND;TZID=America/Denver:20190717T213000
DTSTAMP:20260421T162028
CREATED:20190716T213015Z
LAST-MODIFIED:20190716T213015Z
UID:3472-1563391800-1563399000@www.townsendmt.com
SUMMARY:Broadwater Co Rural Fire Dept meeting
DESCRIPTION:BCRFD agenda 7.17.19
URL:https://www.townsendmt.com/event/broadwater-co-rural-fire-dept-meeting/
CATEGORIES:Broadwater County Calendar
END:VEVENT
BEGIN:VEVENT
DTSTART;TZID=America/Denver:20190722T100000
DTEND;TZID=America/Denver:20190722T123000
DTSTAMP:20260421T162028
CREATED:20190717T201025Z
LAST-MODIFIED:20190717T201319Z
UID:3479-1563789600-1563798600@www.townsendmt.com
SUMMARY:Commission meeting
DESCRIPTION:7.22.19 Commission agenda official
URL:https://www.townsendmt.com/event/commission-meeting-21/
CATEGORIES:Broadwater County Calendar
END:VEVENT
BEGIN:VEVENT
DTSTART;TZID=America/Denver:20190724T150000
DTEND;TZID=America/Denver:20190724T170000
DTSTAMP:20260421T162028
CREATED:20190724T011137Z
LAST-MODIFIED:20190724T011251Z
UID:3528-1563980400-1563987600@www.townsendmt.com
SUMMARY:Planning Board meeting
DESCRIPTION:7.24.19 PB agenda
URL:https://www.townsendmt.com/event/planning-board-meeting-5/
CATEGORIES:Broadwater County Calendar
END:VEVENT
BEGIN:VEVENT
DTSTART;TZID=America/Denver:20190729T100000
DTEND;TZID=America/Denver:20190729T130000
DTSTAMP:20260421T162028
CREATED:20190724T201859Z
LAST-MODIFIED:20190724T201859Z
UID:3535-1564394400-1564405200@www.townsendmt.com
SUMMARY:Commission Meeting
DESCRIPTION:7.29.19 official Commission agenda
URL:https://www.townsendmt.com/event/commission-meeting-22/
LOCATION:Broadwater County Courthouse\, 515 Broadway\, Townsend\, MT\, 59644\, United States
CATEGORIES:Broadwater County Calendar
END:VEVENT
BEGIN:VEVENT
DTSTART;TZID=America/Denver:20190812T090000
DTEND;TZID=America/Denver:20190812T120000
DTSTAMP:20260421T162028
CREATED:20190808T155519Z
LAST-MODIFIED:20190808T155519Z
UID:3576-1565600400-1565611200@www.townsendmt.com
SUMMARY:Commission meeting
DESCRIPTION:8.12.19 Commission agenda – official
URL:https://www.townsendmt.com/event/commission-meeting-23/
LOCATION:Broadwater County Courthouse\, 515 Broadway\, Townsend\, MT\, 59644\, United States
CATEGORIES:Broadwater County Calendar
END:VEVENT
BEGIN:VEVENT
DTSTART;TZID=America/Denver:20190813T120000
DTEND;TZID=America/Denver:20190813T140000
DTSTAMP:20260421T162028
CREATED:20190808T155343Z
LAST-MODIFIED:20190808T155343Z
UID:3574-1565697600-1565704800@www.townsendmt.com
SUMMARY:Trust Board meeting
DESCRIPTION:Trust Board agenda
URL:https://www.townsendmt.com/event/trust-board-meeting-7/
LOCATION:Broadwater County Courthouse\, 515 Broadway\, Townsend\, MT\, 59644\, United States
CATEGORIES:Broadwater County Calendar
END:VEVENT
BEGIN:VEVENT
DTSTART;TZID=America/Denver:20190814T140000
DTEND;TZID=America/Denver:20190814T170000
DTSTAMP:20260421T162028
CREATED:20190813T164714Z
LAST-MODIFIED:20190814T155022Z
UID:3599-1565791200-1565802000@www.townsendmt.com
SUMMARY:Planning Board meeting
DESCRIPTION:8.14.19
URL:https://www.townsendmt.com/event/planning-board-meeting-6/
LOCATION:Broadwater County Courthouse\, 515 Broadway\, Townsend\, MT\, 59644\, United States
CATEGORIES:Broadwater County Calendar
END:VEVENT
BEGIN:VEVENT
DTSTART;TZID=America/Denver:20190815T140000
DTEND;TZID=America/Denver:20190815T143000
DTSTAMP:20260421T162028
CREATED:20190814T174005Z
LAST-MODIFIED:20190814T174005Z
UID:3610-1565877600-1565879400@www.townsendmt.com
SUMMARY:Trust Board Agenda
DESCRIPTION:Aug 15th 2019 agenda
URL:https://www.townsendmt.com/event/trust-board-agenda/
LOCATION:Broadwater County Courthouse\, 515 Broadway\, Townsend\, MT\, 59644\, United States
CATEGORIES:Broadwater County Calendar
END:VEVENT
BEGIN:VEVENT
DTSTART;TZID=America/Denver:20190819T080000
DTEND;TZID=America/Denver:20190819T170000
DTSTAMP:20260421T162028
CREATED:20190814T175542Z
LAST-MODIFIED:20190814T175542Z
UID:3618-1566201600-1566234000@www.townsendmt.com
SUMMARY:Commissioner Meeting
DESCRIPTION:8.19.19 Commission agenda – official
URL:https://www.townsendmt.com/event/commissioner-meeting-3/
CATEGORIES:Broadwater County Calendar
END:VEVENT
BEGIN:VEVENT
DTSTART;TZID=America/Denver:20190826T100000
DTEND;TZID=America/Denver:20190826T120000
DTSTAMP:20260421T162028
CREATED:20190822T162251Z
LAST-MODIFIED:20190822T162251Z
UID:3711-1566813600-1566820800@www.townsendmt.com
SUMMARY:Commissioner Meeting
DESCRIPTION:8.26.19 Agenda – 2- official
URL:https://www.townsendmt.com/event/commissioner-meeting-4/
LOCATION:Broadwater County Courthouse\, 515 Broadway\, Townsend\, MT\, 59644\, United States
CATEGORIES:Broadwater County Calendar
END:VEVENT
BEGIN:VEVENT
DTSTART;TZID=America/Denver:20190903T100000
DTEND;TZID=America/Denver:20190903T120000
DTSTAMP:20260421T162028
CREATED:20190829T175121Z
LAST-MODIFIED:20190829T175203Z
UID:3782-1567504800-1567512000@www.townsendmt.com
SUMMARY:Commissioner Meeting
DESCRIPTION:9.3.19- Official -2-
URL:https://www.townsendmt.com/event/commission-meeting-24/
LOCATION:Broadwater County Courthouse\, 515 Broadway\, Townsend\, MT\, 59644\, United States
CATEGORIES:Broadwater County Calendar
END:VEVENT
BEGIN:VEVENT
DTSTART;TZID=America/Denver:20190909T080000
DTEND;TZID=America/Denver:20190909T170000
DTSTAMP:20260421T162028
CREATED:20190904T185557Z
LAST-MODIFIED:20190904T185557Z
UID:3833-1568016000-1568048400@www.townsendmt.com
SUMMARY:Commissioner Meeting
DESCRIPTION:9.9.19- Official
URL:https://www.townsendmt.com/event/commissioner-meeting-5/
LOCATION:Broadwater County Courthouse\, 515 Broadway\, Townsend\, MT\, 59644\, United States
CATEGORIES:Broadwater County Calendar
END:VEVENT
BEGIN:VEVENT
DTSTART;TZID=America/Denver:20190910T120000
DTEND;TZID=America/Denver:20190910T140000
DTSTAMP:20260421T162028
CREATED:20190904T185636Z
LAST-MODIFIED:20190904T185636Z
UID:3835-1568116800-1568124000@www.townsendmt.com
SUMMARY:Trust Board Meeting
DESCRIPTION:Trust Board Sept 2019 agenda
URL:https://www.townsendmt.com/event/trust-board-meeting-8/
LOCATION:Broadwater County Courthouse\, 515 Broadway\, Townsend\, MT\, 59644\, United States
CATEGORIES:Broadwater County Calendar
END:VEVENT
BEGIN:VEVENT
DTSTART;TZID=America/Denver:20190916T100000
DTEND;TZID=America/Denver:20190916T110000
DTSTAMP:20260421T162028
CREATED:20190912T174905Z
LAST-MODIFIED:20190912T174905Z
UID:3912-1568628000-1568631600@www.townsendmt.com
SUMMARY:Commission Meeting
DESCRIPTION:9.16.19 official (002)
URL:https://www.townsendmt.com/event/commission-meeting-25/
LOCATION:Broadwater County Courthouse\, 515 Broadway\, Townsend\, MT\, 59644\, United States
CATEGORIES:Broadwater County Calendar
END:VEVENT
BEGIN:VEVENT
DTSTART;TZID=America/Denver:20190918T130000
DTEND;TZID=America/Denver:20190918T143000
DTSTAMP:20260421T162028
CREATED:20190916T231331Z
LAST-MODIFIED:20190916T231331Z
UID:3948-1568811600-1568817000@www.townsendmt.com
SUMMARY:Board of Health meeting
DESCRIPTION:agenda.BoardofHealth.2019.09.18
URL:https://www.townsendmt.com/event/board-of-health-meeting-4/
LOCATION:Broadwater County Courthouse\, 515 Broadway\, Townsend\, MT\, 59644\, United States
CATEGORIES:Broadwater County Calendar
END:VEVENT
BEGIN:VEVENT
DTSTART;TZID=America/Denver:20190918T143000
DTEND;TZID=America/Denver:20190918T150000
DTSTAMP:20260421T162028
CREATED:20190916T231120Z
LAST-MODIFIED:20190916T231120Z
UID:3943-1568817000-1568818800@www.townsendmt.com
SUMMARY:Planning Board Public Hearing
DESCRIPTION:LV5 PH notice
URL:https://www.townsendmt.com/event/planning-board-public-hearing/
CATEGORIES:Broadwater County Calendar
END:VEVENT
BEGIN:VEVENT
DTSTART;TZID=America/Denver:20190918T150000
DTEND;TZID=America/Denver:20190918T170000
DTSTAMP:20260421T162028
CREATED:20190916T231041Z
LAST-MODIFIED:20190916T231047Z
UID:3941-1568818800-1568826000@www.townsendmt.com
SUMMARY:Planning Board meeting
DESCRIPTION:9.18.19 PB agenda
URL:https://www.townsendmt.com/event/planning-board-meeting-7/
LOCATION:Broadwater County Courthouse\, 515 Broadway\, Townsend\, MT\, 59644\, United States
CATEGORIES:Broadwater County Calendar
END:VEVENT
END:VCALENDAR