BEGIN:VCALENDAR
VERSION:2.0
PRODID:-//Townsend Montana - ECPv6.15.20//NONSGML v1.0//EN
CALSCALE:GREGORIAN
METHOD:PUBLISH
X-ORIGINAL-URL:https://www.townsendmt.com
X-WR-CALDESC:Events for Townsend Montana
REFRESH-INTERVAL;VALUE=DURATION:PT1H
X-Robots-Tag:noindex
X-PUBLISHED-TTL:PT1H
BEGIN:VTIMEZONE
TZID:America/Denver
BEGIN:DAYLIGHT
TZOFFSETFROM:-0700
TZOFFSETTO:-0600
TZNAME:MDT
DTSTART:20180311T090000
END:DAYLIGHT
BEGIN:STANDARD
TZOFFSETFROM:-0600
TZOFFSETTO:-0700
TZNAME:MST
DTSTART:20181104T080000
END:STANDARD
BEGIN:DAYLIGHT
TZOFFSETFROM:-0700
TZOFFSETTO:-0600
TZNAME:MDT
DTSTART:20190310T090000
END:DAYLIGHT
BEGIN:STANDARD
TZOFFSETFROM:-0600
TZOFFSETTO:-0700
TZNAME:MST
DTSTART:20191103T080000
END:STANDARD
BEGIN:DAYLIGHT
TZOFFSETFROM:-0700
TZOFFSETTO:-0600
TZNAME:MDT
DTSTART:20200308T090000
END:DAYLIGHT
BEGIN:STANDARD
TZOFFSETFROM:-0600
TZOFFSETTO:-0700
TZNAME:MST
DTSTART:20201101T080000
END:STANDARD
END:VTIMEZONE
BEGIN:VEVENT
DTSTART;TZID=America/Denver:20190325T100000
DTEND;TZID=America/Denver:20190325T140000
DTSTAMP:20260421T193134
CREATED:20190322T173419Z
LAST-MODIFIED:20190322T173419Z
UID:2619-1553508000-1553522400@www.townsendmt.com
SUMMARY:Commissioners' Meeting
DESCRIPTION:http://www.townsendmt.com/wp-content/uploads/2019/03/3.25.19-Comm-agenda.pdf
URL:https://www.townsendmt.com/event/commissioners-meeting-2/
LOCATION:MT\, United States
CATEGORIES:Broadwater County Calendar
END:VEVENT
BEGIN:VEVENT
DTSTART;TZID=America/Denver:20190326T110000
DTEND;TZID=America/Denver:20190326T130000
DTSTAMP:20260421T193134
CREATED:20190322T173705Z
LAST-MODIFIED:20190322T173705Z
UID:2626-1553598000-1553605200@www.townsendmt.com
SUMMARY:Trust Board Meeting
DESCRIPTION:http://www.townsendmt.com/wp-content/uploads/2019/03/Trust-Board-agenda.pdf
URL:https://www.townsendmt.com/event/trust-board-meeting-3/
LOCATION:MT\, United States
CATEGORIES:Broadwater County Calendar
END:VEVENT
BEGIN:VEVENT
DTSTART;TZID=America/Denver:20190328T130000
DTEND;TZID=America/Denver:20190328T140000
DTSTAMP:20260421T193134
CREATED:20190326T172321Z
LAST-MODIFIED:20190326T172837Z
UID:2660-1553778000-1553781600@www.townsendmt.com
SUMMARY:Local Emergency Planning Committee
DESCRIPTION:
URL:https://www.townsendmt.com/event/local-emergency-planning-committee-2/
LOCATION:USDA Service Center\, 415 South Front Street\, Townsend\, MT\, 59644\, United States
CATEGORIES:Broadwater County Calendar
END:VEVENT
BEGIN:VEVENT
DTSTART;TZID=America/Denver:20190404T190000
DTEND;TZID=America/Denver:20190404T210000
DTSTAMP:20260421T193134
CREATED:20190404T164328Z
LAST-MODIFIED:20190404T164748Z
UID:2760-1554404400-1554411600@www.townsendmt.com
SUMMARY:Solid Waste Board Meeting
DESCRIPTION:SWB-Apr4-2019Agenda
URL:https://www.townsendmt.com/event/solid-waste-board-meeting-4/
LOCATION:Broadwater County Courthouse\, 515 Broadway\, Townsend\, MT\, 59644\, United States
CATEGORIES:Broadwater County Calendar
END:VEVENT
BEGIN:VEVENT
DTSTART;TZID=America/Denver:20190408T100000
DTEND;TZID=America/Denver:20190408T160000
DTSTAMP:20260421T193134
CREATED:20190326T180025Z
LAST-MODIFIED:20190326T180025Z
UID:2681-1554717600-1554739200@www.townsendmt.com
SUMMARY:Commission Meeting
DESCRIPTION:
URL:https://www.townsendmt.com/event/commission-meeting-6/
LOCATION:Broadwater County Courthouse\, 515 Broadway\, Townsend\, MT\, 59644\, United States
CATEGORIES:Broadwater County Calendar
END:VEVENT
BEGIN:VEVENT
DTSTART;TZID=America/Denver:20190408T180000
DTEND;TZID=America/Denver:20190408T193000
DTSTAMP:20260421T193134
CREATED:20190408T153537Z
LAST-MODIFIED:20190408T153625Z
UID:2777-1554746400-1554751800@www.townsendmt.com
SUMMARY:Recreation Board Meeting
DESCRIPTION:Rec Board agenda 4.8.19
URL:https://www.townsendmt.com/event/recreation-board-meeting-2/
LOCATION:Broadwater County Courthouse\, 515 Broadway\, Townsend\, MT\, 59644\, United States
CATEGORIES:Broadwater County Calendar
END:VEVENT
BEGIN:VEVENT
DTSTART;TZID=America/Denver:20190410T140000
DTEND;TZID=America/Denver:20190410T150000
DTSTAMP:20260421T193134
CREATED:20190326T173045Z
LAST-MODIFIED:20190326T173045Z
UID:2665-1554904800-1554908400@www.townsendmt.com
SUMMARY:Local Advisory Council for Behavioral Health
DESCRIPTION:
URL:https://www.townsendmt.com/event/local-advisory-council-for-behavioral-health-2/
LOCATION:MT\, United States
CATEGORIES:Broadwater County Calendar
END:VEVENT
BEGIN:VEVENT
DTSTART;TZID=America/Denver:20190415T100000
DTEND;TZID=America/Denver:20190415T160000
DTSTAMP:20260421T193134
CREATED:20190326T175540Z
LAST-MODIFIED:20190412T172539Z
UID:2676-1555322400-1555344000@www.townsendmt.com
SUMMARY:Commission Meeting
DESCRIPTION:Agenda \n 
URL:https://www.townsendmt.com/event/commission-meeting-5/
LOCATION:Broadwater County Courthouse\, 515 Broadway\, Townsend\, MT\, 59644\, United States
CATEGORIES:Broadwater County Calendar
END:VEVENT
BEGIN:VEVENT
DTSTART;TZID=America/Denver:20190416T080000
DTEND;TZID=America/Denver:20190416T120000
DTSTAMP:20260421T193134
CREATED:20190410T202934Z
LAST-MODIFIED:20190412T172433Z
UID:2800-1555401600-1555416000@www.townsendmt.com
SUMMARY:Commission Meeting
DESCRIPTION:Agenda \n 
URL:https://www.townsendmt.com/event/commission-meeting-9/
LOCATION:Broadwater County Courthouse\, 515 Broadway\, Townsend\, MT\, 59644\, United States
CATEGORIES:Broadwater County Calendar
END:VEVENT
BEGIN:VEVENT
DTSTART;TZID=America/Denver:20190416T190000
DTEND;TZID=America/Denver:20190416T200000
DTSTAMP:20260421T193134
CREATED:20190326T173415Z
LAST-MODIFIED:20190326T173415Z
UID:2671-1555441200-1555444800@www.townsendmt.com
SUMMARY:Solid Waste Board Meeting
DESCRIPTION:
URL:https://www.townsendmt.com/event/solid-waste-board-meeting-3/
LOCATION:Broadwater County Courthouse\, 515 Broadway\, Townsend\, MT\, 59644\, United States
CATEGORIES:Broadwater County Calendar
END:VEVENT
BEGIN:VEVENT
DTSTART;TZID=America/Denver:20190417T090000
DTEND;TZID=America/Denver:20190417T160000
DTSTAMP:20260421T193134
CREATED:20190410T203012Z
LAST-MODIFIED:20190412T172315Z
UID:2802-1555491600-1555516800@www.townsendmt.com
SUMMARY:Commission Meeting
DESCRIPTION:Agenda \n 
URL:https://www.townsendmt.com/event/commission-meeting-10/
CATEGORIES:Broadwater County Calendar
END:VEVENT
BEGIN:VEVENT
DTSTART;TZID=America/Denver:20190417T130000
DTEND;TZID=America/Denver:20190417T140000
DTSTAMP:20260421T193134
CREATED:20190326T173202Z
LAST-MODIFIED:20190417T210020Z
UID:2668-1555506000-1555509600@www.townsendmt.com
SUMMARY:Board of Health
DESCRIPTION:4.17.19 BOH agenda
URL:https://www.townsendmt.com/event/board-of-health-2/
LOCATION:MT\, United States
CATEGORIES:Broadwater County Calendar
END:VEVENT
BEGIN:VEVENT
DTSTART;TZID=America/Denver:20190417T190000
DTEND;TZID=America/Denver:20190417T210000
DTSTAMP:20260421T193134
CREATED:20190417T205506Z
LAST-MODIFIED:20190417T205518Z
UID:2880-1555527600-1555534800@www.townsendmt.com
SUMMARY:Airport Board Meeting
DESCRIPTION:Airport Board meeting
URL:https://www.townsendmt.com/event/airport-board-meeting/
CATEGORIES:Broadwater County Calendar
END:VEVENT
BEGIN:VEVENT
DTSTART;TZID=America/Denver:20190418T190000
DTEND;TZID=America/Denver:20190418T210000
DTSTAMP:20260421T193134
CREATED:20190417T205800Z
LAST-MODIFIED:20190417T205800Z
UID:2882-1555614000-1555621200@www.townsendmt.com
SUMMARY:Fair Board Meeting
DESCRIPTION:4.18.19 Fair Board agenda
URL:https://www.townsendmt.com/event/fair-board-meeting/
CATEGORIES:Broadwater County Calendar
END:VEVENT
BEGIN:VEVENT
DTSTART;TZID=America/Denver:20190422T100000
DTEND;TZID=America/Denver:20190422T160000
DTSTAMP:20260421T193134
CREATED:20190326T180054Z
LAST-MODIFIED:20190423T211738Z
UID:2683-1555927200-1555948800@www.townsendmt.com
SUMMARY:Commission Meeting
DESCRIPTION:4.22-24.2019
URL:https://www.townsendmt.com/event/commission-meeting-7/
LOCATION:Broadwater County Courthouse\, 515 Broadway\, Townsend\, MT\, 59644\, United States
CATEGORIES:Broadwater County Calendar
END:VEVENT
BEGIN:VEVENT
DTSTART;TZID=America/Denver:20190423T080000
DTEND;TZID=America/Denver:20190423T170000
DTSTAMP:20260421T193134
CREATED:20190423T211803Z
LAST-MODIFIED:20200127T151848Z
UID:2922-1556006400-1556038800@www.townsendmt.com
SUMMARY:Commission Meeting
DESCRIPTION:4.22-24.2019
URL:https://www.townsendmt.com/event/commission-meeting-11/
CATEGORIES:Broadwater County Calendar
END:VEVENT
BEGIN:VEVENT
DTSTART;TZID=America/Denver:20190423T080000
DTEND;TZID=America/Denver:20190423T170000
DTSTAMP:20260421T193134
CREATED:20190423T212035Z
LAST-MODIFIED:20190423T212035Z
UID:2926-1556006400-1556038800@www.townsendmt.com
SUMMARY:Commission Meeting
DESCRIPTION:4.22-24.2019
URL:https://www.townsendmt.com/event/commission-meeting-13/
CATEGORIES:Broadwater County Calendar
END:VEVENT
BEGIN:VEVENT
DTSTART;TZID=America/Denver:20190423T113000
DTEND;TZID=America/Denver:20190423T130000
DTSTAMP:20260421T193134
CREATED:20190409T215535Z
LAST-MODIFIED:20190409T215726Z
UID:2787-1556019000-1556024400@www.townsendmt.com
SUMMARY:Trust Board Meeting
DESCRIPTION:Trust Board April 2019 agenda
URL:https://www.townsendmt.com/event/trust-board-meeting-4/
LOCATION:Broadwater County Courthouse\, 515 Broadway\, Townsend\, MT\, 59644\, United States
CATEGORIES:Broadwater County Calendar
END:VEVENT
BEGIN:VEVENT
DTSTART;TZID=America/Denver:20190424T080000
DTEND;TZID=America/Denver:20190424T170000
DTSTAMP:20260421T193134
CREATED:20190423T211833Z
LAST-MODIFIED:20190423T211933Z
UID:2924-1556092800-1556125200@www.townsendmt.com
SUMMARY:Commission Meeting
DESCRIPTION:4.22-24.2019
URL:https://www.townsendmt.com/event/commission-meeting-12/
CATEGORIES:Broadwater County Calendar
END:VEVENT
BEGIN:VEVENT
DTSTART;TZID=America/Denver:20190424T190000
DTEND;TZID=America/Denver:20190424T210000
DTSTAMP:20260421T193134
CREATED:20190326T175503Z
LAST-MODIFIED:20190326T175503Z
UID:2674-1556132400-1556139600@www.townsendmt.com
SUMMARY:Weed Board Meeting
DESCRIPTION:
URL:https://www.townsendmt.com/event/weed-board-meeting-2/
LOCATION:Broadwater County Courthouse\, 515 Broadway\, Townsend\, MT\, 59644\, United States
CATEGORIES:Broadwater County Calendar
END:VEVENT
BEGIN:VEVENT
DTSTART;TZID=America/Denver:20190425T190000
DTEND;TZID=America/Denver:20190425T210000
DTSTAMP:20260421T193134
CREATED:20190423T211314Z
LAST-MODIFIED:20190423T211327Z
UID:2917-1556218800-1556226000@www.townsendmt.com
SUMMARY:Solid Waste Board Meeting
DESCRIPTION:SWB-042519agenda
URL:https://www.townsendmt.com/event/solid-waste-board-meeting-5/
LOCATION:Broadwater County Courthouse\, 515 Broadway\, Townsend\, MT\, 59644\, United States
CATEGORIES:Broadwater County Calendar
END:VEVENT
BEGIN:VEVENT
DTSTART;TZID=America/Denver:20190429T090000
DTEND;TZID=America/Denver:20190429T170000
DTSTAMP:20260421T193134
CREATED:20190424T221315Z
LAST-MODIFIED:20190424T221315Z
UID:2944-1556528400-1556557200@www.townsendmt.com
SUMMARY:Commission Meeting
DESCRIPTION:4.29.19
URL:https://www.townsendmt.com/event/commission-meeting-14/
LOCATION:Broadwater County Courthouse\, 515 Broadway\, Townsend\, MT\, 59644\, United States
CATEGORIES:Broadwater County Calendar
END:VEVENT
BEGIN:VEVENT
DTSTART;TZID=America/Denver:20190430T100000
DTEND;TZID=America/Denver:20190430T110000
DTSTAMP:20260421T193134
CREATED:20190424T221349Z
LAST-MODIFIED:20190424T221349Z
UID:2946-1556618400-1556622000@www.townsendmt.com
SUMMARY:Commission Meeting
DESCRIPTION:4.29.19
URL:https://www.townsendmt.com/event/commission-meeting-15/
CATEGORIES:Broadwater County Calendar
END:VEVENT
BEGIN:VEVENT
DTSTART;TZID=America/Denver:20190430T150000
DTEND;TZID=America/Denver:20190430T170000
DTSTAMP:20260421T193134
CREATED:20190424T221423Z
LAST-MODIFIED:20190424T221423Z
UID:2948-1556636400-1556643600@www.townsendmt.com
SUMMARY:Planning Board Meeting
DESCRIPTION:4.30.19 PB agenda
URL:https://www.townsendmt.com/event/planning-board-meeting/
LOCATION:Broadwater County Courthouse\, 515 Broadway\, Townsend\, MT\, 59644\, United States
CATEGORIES:Broadwater County Calendar
END:VEVENT
BEGIN:VEVENT
DTSTART;TZID=America/Denver:20190506T100000
DTEND;TZID=America/Denver:20190506T170000
DTSTAMP:20260421T193134
CREATED:20190502T203217Z
LAST-MODIFIED:20190502T203217Z
UID:3003-1557136800-1557162000@www.townsendmt.com
SUMMARY:Commission Meeting
DESCRIPTION:5.6 5.8.19 Agenda – Official
URL:https://www.townsendmt.com/event/commission-meeting-8/
LOCATION:Broadwater County Courthouse\, 515 Broadway\, Townsend\, MT\, 59644\, United States
CATEGORIES:Broadwater County Calendar
END:VEVENT
BEGIN:VEVENT
DTSTART;TZID=America/Denver:20190507T120000
DTEND;TZID=America/Denver:20190507T130000
DTSTAMP:20260421T193134
CREATED:20190502T203630Z
LAST-MODIFIED:20190502T203630Z
UID:3011-1557230400-1557234000@www.townsendmt.com
SUMMARY:Trust Board Meeting
DESCRIPTION:May 2019 Trust Board agenda
URL:https://www.townsendmt.com/event/trust-board-meeting-5/
LOCATION:Broadwater County Courthouse\, 515 Broadway\, Townsend\, MT\, 59644\, United States
CATEGORIES:Broadwater County Calendar
END:VEVENT
BEGIN:VEVENT
DTSTART;TZID=America/Denver:20190507T140000
DTEND;TZID=America/Denver:20190507T160000
DTSTAMP:20260421T193134
CREATED:20190502T203732Z
LAST-MODIFIED:20190502T203732Z
UID:3013-1557237600-1557244800@www.townsendmt.com
SUMMARY:Historical Society Meeting
DESCRIPTION:May 7 2019 Historical Society agenda
URL:https://www.townsendmt.com/event/historical-society-meeting/
LOCATION:Broadwater County Museum\, 133 N Walnut St\, Townsend\, MT\, 59644\, United States
CATEGORIES:Broadwater County Calendar
END:VEVENT
BEGIN:VEVENT
DTSTART;TZID=America/Denver:20190508T080000
DTEND;TZID=America/Denver:20190508T170000
DTSTAMP:20260421T193134
CREATED:20190502T203345Z
LAST-MODIFIED:20190502T203345Z
UID:3005-1557302400-1557334800@www.townsendmt.com
SUMMARY:Commission Meeting
DESCRIPTION:5.6 5.8.19 Agenda – Official
URL:https://www.townsendmt.com/event/commission-meeting-16/
LOCATION:Broadwater County Courthouse\, 515 Broadway\, Townsend\, MT\, 59644\, United States
CATEGORIES:Broadwater County Calendar
END:VEVENT
BEGIN:VEVENT
DTSTART;TZID=America/Denver:20190515T143000
DTEND;TZID=America/Denver:20190515T170000
DTSTAMP:20260421T193134
CREATED:20190502T204939Z
LAST-MODIFIED:20190502T205247Z
UID:3017-1557930600-1557939600@www.townsendmt.com
SUMMARY:Planning Board Meeting
DESCRIPTION:5.15.19 Planning Board agenda \nPlanning Board Notice
URL:https://www.townsendmt.com/event/planning-board-meeting-2/
LOCATION:Broadwater County Courthouse\, 515 Broadway\, Townsend\, MT\, 59644\, United States
CATEGORIES:Broadwater County Calendar
END:VEVENT
BEGIN:VEVENT
DTSTART;TZID=America/Denver:20190610T100000
DTEND;TZID=America/Denver:20190610T133000
DTSTAMP:20260421T193134
CREATED:20190606T173127Z
LAST-MODIFIED:20190606T173127Z
UID:3194-1560160800-1560173400@www.townsendmt.com
SUMMARY:Commissioner Meeting
DESCRIPTION:6.10.19
URL:https://www.townsendmt.com/event/commissioner-meeting/
LOCATION:Broadwater County Courthouse\, 515 Broadway\, Townsend\, MT\, 59644\, United States
CATEGORIES:Broadwater County Calendar
END:VEVENT
END:VCALENDAR