BEGIN:VCALENDAR
VERSION:2.0
PRODID:-//Townsend Montana - ECPv6.15.20//NONSGML v1.0//EN
CALSCALE:GREGORIAN
METHOD:PUBLISH
X-WR-CALNAME:Townsend Montana
X-ORIGINAL-URL:https://www.townsendmt.com
X-WR-CALDESC:Events for Townsend Montana
REFRESH-INTERVAL;VALUE=DURATION:PT1H
X-Robots-Tag:noindex
X-PUBLISHED-TTL:PT1H
BEGIN:VTIMEZONE
TZID:America/Denver
BEGIN:DAYLIGHT
TZOFFSETFROM:-0700
TZOFFSETTO:-0600
TZNAME:MDT
DTSTART:20200308T090000
END:DAYLIGHT
BEGIN:STANDARD
TZOFFSETFROM:-0600
TZOFFSETTO:-0700
TZNAME:MST
DTSTART:20201101T080000
END:STANDARD
BEGIN:DAYLIGHT
TZOFFSETFROM:-0700
TZOFFSETTO:-0600
TZNAME:MDT
DTSTART:20210314T090000
END:DAYLIGHT
BEGIN:STANDARD
TZOFFSETFROM:-0600
TZOFFSETTO:-0700
TZNAME:MST
DTSTART:20211107T080000
END:STANDARD
BEGIN:DAYLIGHT
TZOFFSETFROM:-0700
TZOFFSETTO:-0600
TZNAME:MDT
DTSTART:20220313T090000
END:DAYLIGHT
BEGIN:STANDARD
TZOFFSETFROM:-0600
TZOFFSETTO:-0700
TZNAME:MST
DTSTART:20221106T080000
END:STANDARD
BEGIN:DAYLIGHT
TZOFFSETFROM:-0700
TZOFFSETTO:-0600
TZNAME:MDT
DTSTART:20230312T090000
END:DAYLIGHT
BEGIN:STANDARD
TZOFFSETFROM:-0600
TZOFFSETTO:-0700
TZNAME:MST
DTSTART:20231105T080000
END:STANDARD
BEGIN:DAYLIGHT
TZOFFSETFROM:-0700
TZOFFSETTO:-0600
TZNAME:MDT
DTSTART:20240310T090000
END:DAYLIGHT
BEGIN:STANDARD
TZOFFSETFROM:-0600
TZOFFSETTO:-0700
TZNAME:MST
DTSTART:20241103T080000
END:STANDARD
BEGIN:DAYLIGHT
TZOFFSETFROM:-0700
TZOFFSETTO:-0600
TZNAME:MDT
DTSTART:20250309T090000
END:DAYLIGHT
BEGIN:STANDARD
TZOFFSETFROM:-0600
TZOFFSETTO:-0700
TZNAME:MST
DTSTART:20251102T080000
END:STANDARD
BEGIN:DAYLIGHT
TZOFFSETFROM:-0700
TZOFFSETTO:-0600
TZNAME:MDT
DTSTART:20260308T090000
END:DAYLIGHT
BEGIN:STANDARD
TZOFFSETFROM:-0600
TZOFFSETTO:-0700
TZNAME:MST
DTSTART:20261101T080000
END:STANDARD
END:VTIMEZONE
BEGIN:VEVENT
DTSTART;TZID=America/Denver:20210518T140000
DTEND;TZID=America/Denver:20210518T170000
DTSTAMP:20260420T022504
CREATED:20210513T175542Z
LAST-MODIFIED:20210513T175542Z
UID:7746-1621346400-1621357200@www.townsendmt.com
SUMMARY:Commission Meeting
DESCRIPTION:May 1718 and 20 2021 Agenda -Official
URL:https://www.townsendmt.com/event/commission-meeting-128/
LOCATION:Flynn Building (formerly Opportunity Bldg)\, 416 Broadway\, Townsend
CATEGORIES:Broadwater County Calendar
END:VEVENT
BEGIN:VEVENT
DTSTART;TZID=America/Denver:20210519T130000
DTEND;TZID=America/Denver:20210519T150000
DTSTAMP:20260420T022504
CREATED:20210517T172503Z
LAST-MODIFIED:20210517T172523Z
UID:7766-1621429200-1621436400@www.townsendmt.com
SUMMARY:Board of Health Meeting
DESCRIPTION:Agenda_Board Of Health_2021_05_19
URL:https://www.townsendmt.com/event/board-of-health-meeting-13/
LOCATION:Flynn Building (formerly Opportunity Bldg)\, 416 Broadway\, Townsend
CATEGORIES:Broadwater County Calendar
END:VEVENT
BEGIN:VEVENT
DTSTART;TZID=America/Denver:20210519T190000
DTEND;TZID=America/Denver:20210519T210000
DTSTAMP:20260420T022504
CREATED:20210518T231742Z
LAST-MODIFIED:20210518T231742Z
UID:7774-1621450800-1621458000@www.townsendmt.com
SUMMARY:Airport Board Meeting
DESCRIPTION:5.19.2021 agenda
URL:https://www.townsendmt.com/event/airport-board-meeting-6/
LOCATION:Flynn Building (formerly Opportunity Bldg)\, 416 Broadway\, Townsend
CATEGORIES:Broadwater County Calendar
END:VEVENT
BEGIN:VEVENT
DTSTART;TZID=America/Denver:20210520T150000
DTEND;TZID=America/Denver:20210520T170000
DTSTAMP:20260420T022504
CREATED:20210513T175642Z
LAST-MODIFIED:20210513T181549Z
UID:7748-1621522800-1621530000@www.townsendmt.com
SUMMARY:Commission Meeting
DESCRIPTION:May 1718 and 20 2021 Agenda -Official
URL:https://www.townsendmt.com/event/commission-meeting-129/
LOCATION:Flynn Building (formerly Opportunity Bldg)\, 416 Broadway\, Townsend
CATEGORIES:Broadwater County Calendar
END:VEVENT
BEGIN:VEVENT
DTSTART;TZID=America/Denver:20210524T100000
DTEND;TZID=America/Denver:20210524T110000
DTSTAMP:20260420T022504
CREATED:20210520T224518Z
LAST-MODIFIED:20210520T224904Z
UID:7790-1621850400-1621854000@www.townsendmt.com
SUMMARY:Commission Meeting
DESCRIPTION:May 24 2021 Agenda -Official \nSheriff Office RFP \nSearch and Rescue RFP \nArea IV Agency of Aging Contractor Assessment Tool May 2021 \nWinston Alley \nInmate Boarding Rate Resolution \nDuede FT \nDuede FT affidavit \nRose FT \nRose affidavit \n 
URL:https://www.townsendmt.com/event/commission-meeting-130/
LOCATION:Flynn Building (formerly Opportunity Bldg)\, 416 Broadway\, Townsend
CATEGORIES:Broadwater County Calendar
END:VEVENT
BEGIN:VEVENT
DTSTART;TZID=America/Denver:20210528T150000
DTEND;TZID=America/Denver:20210528T160000
DTSTAMP:20260420T022504
CREATED:20210427T174455Z
LAST-MODIFIED:20210427T174852Z
UID:7632-1622214000-1622217600@www.townsendmt.com
SUMMARY:Canton Church - Carrie Krause: Historic Church Tour
DESCRIPTION:Historic Churches Tour \nA free concert of J.S. Bach’s solo works for violin will take place at the Canton Church on May 28\, 2021. This program is presented by Baroque Music Montana\, and features violinist Carrie Krause. The performance is intended to celebrate the acoustics and history of century-old buildings\, and is part of BaMM’s “Historic Churches Tour” across southwest Montana. Donations accepted. Limit 30 County health guidelines will be observed. \nConcertmaster of the Bozeman Symphony\, Krause specializes in music from the baroque period\, performing with groups around the county and on international tours. She will be playing a newly acquired violin from 1740 by Mayr\, who made Mozart’s first violin. This program features some of the most monumental and difficult works for the violin\, likely never performed during Bach’s lifetime. \nThe “Historic Churches Tour” is part of Baroque Music Montana’s Bach Roads of Montana series\, celebrating community\, place\, and history in May and June. Events include “Bach on Main” and “Bach at Trails” with musicians of all abilities and ages\, “Biking for Bach” crossing Gallatin Valley\, the “Bach-side of the Sonatas and Partitas” garden lecture\, and complete performance of the solo violin works split June 17 at Old Main Gallery and June 19 at Resurrection Catholic in Bozeman. \nThis live\, public performance will additionally be documented through recordings and photography which will be made available through the Baroque Music Montana website. Limit 30 open to first come first serve limited audience due to pandemic and space limits. More information available at baroquemusicmontana.org. \n 
URL:https://www.townsendmt.com/event/canton-church-carrie-krause-historic-church-tour/
CATEGORIES:Broadwater County Calendar,Broadwater Events Calendar,Summer Event
END:VEVENT
BEGIN:VEVENT
DTSTART;TZID=America/Denver:20210601T100000
DTEND;TZID=America/Denver:20210601T110000
DTSTAMP:20260420T022504
CREATED:20210527T231108Z
LAST-MODIFIED:20210527T231108Z
UID:7820-1622541600-1622545200@www.townsendmt.com
SUMMARY:Commission Meeting
DESCRIPTION:June 1 2021 Agenda -Official \nBCDUITF-FY22 Broadwater County DUI Task Force Annual Plan \nBCDUITF-FY22 Broadwater County DUI Task Force Member Contact Information \nBCDUITF-FY22 Broadwater County DUI Task Force Meeting Calendar \nBCDUITF-FY22 Broadwater County DUI Task Force Budget \nDuede FT affidavit \nDuede FT \nBill Webb Ag \nBill Webb affidavit \nTownsend_2105_00772_Agreement_IFE_Revised \nVendor Summary Query 5-24-21
URL:https://www.townsendmt.com/event/commission-meeting-131/
LOCATION:Flynn Building (formerly Opportunity Bldg)\, 416 Broadway\, Townsend
CATEGORIES:Broadwater County Calendar
END:VEVENT
BEGIN:VEVENT
DTSTART;TZID=America/Denver:20210602T100000
DTEND;TZID=America/Denver:20210602T120000
DTSTAMP:20260420T022504
CREATED:20210527T231147Z
LAST-MODIFIED:20210527T231147Z
UID:7822-1622628000-1622635200@www.townsendmt.com
SUMMARY:Commission Working Meeting
DESCRIPTION:June 1 2021 Agenda -Official
URL:https://www.townsendmt.com/event/commission-working-meeting/
LOCATION:Flynn Building (formerly Opportunity Bldg)\, 416 Broadway\, Townsend
CATEGORIES:Broadwater County Calendar
END:VEVENT
BEGIN:VEVENT
DTSTART;TZID=America/Denver:20210611T170000
DTEND;TZID=America/Denver:20210611T190000
DTSTAMP:20260420T022504
CREATED:20210324T201521Z
LAST-MODIFIED:20210419T144910Z
UID:7490-1623430800-1623438000@www.townsendmt.com
SUMMARY:Canton Church - John Larsen/Laura Stevenson/Sam Goode
DESCRIPTION:Canton Church Event – John Larsen/Laura Stevenson/Sam Goode \n 
URL:https://www.townsendmt.com/event/canton-church-john-larsen-laura-stevenson-sam-goode/
LOCATION:Canton Church\, 3497 Hwy 284\, Townsend\, MT\, 59644\, United States
CATEGORIES:Broadwater County Calendar,Broadwater Events Calendar,Family Event,Summer Event
END:VEVENT
BEGIN:VEVENT
DTSTART;TZID=America/Denver:20210621T110000
DTEND;TZID=America/Denver:20210621T170000
DTSTAMP:20260420T022505
CREATED:20210409T161648Z
LAST-MODIFIED:20210419T144951Z
UID:7544-1624273200-1624294800@www.townsendmt.com
SUMMARY:Townsend Community Red Cross Blood Drive - June 21\, 2021
DESCRIPTION:The American Red Cross is sponsoring a Townsend Community Blood Drive on June 21 at the United Methodist Church. Please consider donating blood – it’s a free and valued way to contribute ! \nTo make an appointment: \n\nUse your donor app\n\nOR \n\nVisit www.redcrossblood.org\n\nOR \n\nCall 1-800-733-2767
URL:https://www.townsendmt.com/event/townsend-community-red-cross-blood-drive-june-21-2021/
LOCATION:United Methodist Church
CATEGORIES:Broadwater County Calendar,Broadwater Events Calendar
END:VEVENT
BEGIN:VEVENT
DTSTART;TZID=America/Denver:20210625T160000
DTEND;TZID=America/Denver:20210625T190000
DTSTAMP:20260420T022505
CREATED:20210429T135550Z
LAST-MODIFIED:20210429T135550Z
UID:7647-1624636800-1624647600@www.townsendmt.com
SUMMARY:Fair Board Picnic Pick-up Fundraiser
DESCRIPTION:The Fair Board is holding a Picnic Pick-Up Fundraiser at the 4H buildings at the Fairground on June 25th from 4:00-7:00 pm.
URL:https://www.townsendmt.com/event/fair-board-picnic-pick-up-fundraiser/
CATEGORIES:Broadwater County Calendar,Broadwater Events Calendar
END:VEVENT
BEGIN:VEVENT
DTSTART;TZID=America/Denver:20210709T170000
DTEND;TZID=America/Denver:20210709T190000
DTSTAMP:20260420T022505
CREATED:20210324T201741Z
LAST-MODIFIED:20210419T145057Z
UID:7493-1625850000-1625857200@www.townsendmt.com
SUMMARY:Canton Church Event - Judy Williams
DESCRIPTION:Canton Church Event – Judy Williams
URL:https://www.townsendmt.com/event/canton-church-event-judy-williams/
LOCATION:Canton Church\, 3497 Hwy 284\, Townsend\, MT\, 59644\, United States
CATEGORIES:Broadwater County Calendar,Broadwater Events Calendar,Family Event,Summer Event
END:VEVENT
BEGIN:VEVENT
DTSTART;TZID=America/Denver:20210717T080000
DTEND;TZID=America/Denver:20210717T170000
DTSTAMP:20260420T022505
CREATED:20210125T172621Z
LAST-MODIFIED:20210419T145129Z
UID:7246-1626508800-1626541200@www.townsendmt.com
SUMMARY:County Wide Yard Sale
DESCRIPTION:5th Annual County Wide Yard Sale\nThere is no fee to join in to the County Wide Yard Sale.\nYou provide the yard sale — we provide the promotion.\nTo be included on our Map of the yard sales contact Pam Sample at 406-422-7028.\nThis is a tentative date depending on the effects of COVID at this time.
URL:https://www.townsendmt.com/event/county-wide-yard-sale/
CATEGORIES:Broadwater County Calendar,Broadwater Events Calendar,Summer Event
END:VEVENT
BEGIN:VEVENT
DTSTART;TZID=America/Denver:20210723T170000
DTEND;TZID=America/Denver:20210723T190000
DTSTAMP:20260420T022505
CREATED:20210324T201935Z
LAST-MODIFIED:20210419T145203Z
UID:7495-1627059600-1627066800@www.townsendmt.com
SUMMARY:Canton Church Event - Eliel Family and Friends
DESCRIPTION:Canton Church Event: Tom and Joan Eliel And Family And Friends
URL:https://www.townsendmt.com/event/canton-church-event-eliel-family-and-friends/
LOCATION:Canton Church\, 3497 Hwy 284\, Townsend\, MT\, 59644\, United States
CATEGORIES:Broadwater County Calendar,Broadwater Events Calendar,Family Event,Summer Event
END:VEVENT
BEGIN:VEVENT
DTSTART;TZID=America/Denver:20210724T100000
DTEND;TZID=America/Denver:20210724T150000
DTSTAMP:20260420T022505
CREATED:20210324T195940Z
LAST-MODIFIED:20210713T184920Z
UID:7481-1627120800-1627138800@www.townsendmt.com
SUMMARY:Backyards of Broadwater - 2021
DESCRIPTION:Tickets are now on sale for Backyards of Broadwater!  The date is Saturday\, July 24th from 10:00-3:00.  Tickets are $5.00 per person with kids 12 and under FREE.  Tickets are on sale at the Extension Office\, Goosebay Glass\, Townsend Hardware and Townsend Farmer’s Market.  When you purchase your tickets\, you will receive a map\, garden descriptions and details for the tour.  Then you can simply enjoy the tour at your own pace! \nThis year’s tour features yards and gardens stretching from Townsend to Winston.  There are eight gardens\, highlighting the following people:  Ed & June Printy\, Patrick Plantenberg & Mary Mistek\, JB & Monica Howick\, Eric & Stacy Sommer\, Dennis Schenk & Carol Lorz\, David & April Toll\, David & Barbara Clark and Jeff & Marie Hoeffner.  There is something for everyone on the tour.  You will have the opportunity to see a variety of different gardening styles including raised beds\, container gardening and a greenhouse.  You’ll get to see historic buildings from barns to a mansion\, native species\, unique berries and a pollinator garden.  You get to catch a glimpse of a few creatures along the way including tortoises and a goldfish pond.  You’ll hear about the transformation and journey these yards went through over the years and trials and tribulations along the ways.  You’ll visit with gardeners who have a passion for working with the earth. \nHope to see you on the Backyards of Broadwater! \nMore information available at https://broadwater.msuextension.org/yardandgarden/BackyardsBroadwater.html
URL:https://www.townsendmt.com/event/backyards-of-broadwater-2021/
CATEGORIES:Broadwater County Calendar,Broadwater Events Calendar,Family Event,Summer Event
END:VEVENT
BEGIN:VEVENT
DTSTART;VALUE=DATE:20210804
DTEND;VALUE=DATE:20210809
DTSTAMP:20260420T022505
CREATED:20210324T200519Z
LAST-MODIFIED:20210419T145258Z
UID:7484-1628035200-1628467199@www.townsendmt.com
SUMMARY:Broadwater County Rodeo and Fair
DESCRIPTION:Broadwater County Fair and Rodeo August 4-8
URL:https://www.townsendmt.com/event/7484/
LOCATION:Broadwater County Fairgrounds
CATEGORIES:Broadwater County Calendar,Broadwater Events Calendar,Family Event,Summer Event
END:VEVENT
BEGIN:VEVENT
DTSTART;TZID=America/Denver:20210813T170000
DTEND;TZID=America/Denver:20210813T190000
DTSTAMP:20260420T022505
CREATED:20210324T202109Z
LAST-MODIFIED:20210419T145334Z
UID:7497-1628874000-1628881200@www.townsendmt.com
SUMMARY:Canton Church Event - Linda Huth
DESCRIPTION:Canton Church Event: Linda Huth
URL:https://www.townsendmt.com/event/canton-church-event-linda-huth/
LOCATION:Canton Church\, 3497 Hwy 284\, Townsend\, MT\, 59644\, United States
CATEGORIES:Broadwater County Calendar,Broadwater Events Calendar,Family Event,Summer Event
END:VEVENT
BEGIN:VEVENT
DTSTART;TZID=America/Denver:20210825T110000
DTEND;TZID=America/Denver:20210825T170000
DTSTAMP:20260420T022505
CREATED:20210409T161915Z
LAST-MODIFIED:20210419T145402Z
UID:7548-1629889200-1629910800@www.townsendmt.com
SUMMARY:Townsend Community Red Cross Blood Drive - August 25\, 2021
DESCRIPTION:The American Red Cross is sponsoring a Townsend Community Blood Drive on August 25\, 2021 at the United Methodist Church. Please consider donating blood – it’s a free and valued way to contribute ! \nTo make an appointment: \n\nUse your donor app\n\nOR \n\nVisit www.redcrossblood.org\n\nOR \n\nCall 1-800-733-2767
URL:https://www.townsendmt.com/event/townsend-community-red-cross-blood-drive-august-25-2021/
CATEGORIES:Broadwater County Calendar,Broadwater Events Calendar
END:VEVENT
BEGIN:VEVENT
DTSTART;TZID=America/Denver:20211001T080000
DTEND;TZID=America/Denver:20211003T170000
DTSTAMP:20260420T022505
CREATED:20210125T175541Z
LAST-MODIFIED:20210419T145436Z
UID:7252-1633075200-1633280400@www.townsendmt.com
SUMMARY:Townsend Fall Fest
DESCRIPTION:
URL:https://www.townsendmt.com/event/townsend-fall-fest/
CATEGORIES:Broadwater County Calendar,Broadwater Events Calendar,Family Event
END:VEVENT
BEGIN:VEVENT
DTSTART;TZID=America/Denver:20211025T110000
DTEND;TZID=America/Denver:20211025T170000
DTSTAMP:20260420T022505
CREATED:20210409T162116Z
LAST-MODIFIED:20210419T145501Z
UID:7550-1635159600-1635181200@www.townsendmt.com
SUMMARY:Townsend Community Red Cross Blood Drive - October 25\, 2021
DESCRIPTION:The American Red Cross is sponsoring a Townsend Community Blood Drive on October 25\, 2021 at the United Methodist Church. Please consider donating blood – it’s a free and valued way to contribute ! \nTo make an appointment: \n\nUse your donor app\n\nOR \n\nVisit www.redcrossblood.org\n\nOR \n\nCall 1-800-733-2767
URL:https://www.townsendmt.com/event/townsend-community-red-cross-blood-drive-october-25-2021/
LOCATION:United Methodist Church
CATEGORIES:Broadwater County Calendar,Broadwater Events Calendar
END:VEVENT
BEGIN:VEVENT
DTSTART;TZID=America/Denver:20211220T110000
DTEND;TZID=America/Denver:20211220T170000
DTSTAMP:20260420T022505
CREATED:20210409T162351Z
LAST-MODIFIED:20210419T145520Z
UID:7552-1639998000-1640019600@www.townsendmt.com
SUMMARY:Townsend Community Red Cross Blood Drive - December 20\, 2021
DESCRIPTION:The American Red Cross is sponsoring a Townsend Community Blood Drive on December 20\, 2021 at the United Methodist Church. Please consider donating blood – it’s a free and valued way to contribute ! \nTo make an appointment: \n\nUse your donor app\n\nOR \n\nVisit www.redcrossblood.org\n\nOR \n\nCall 1-800-733-2767
URL:https://www.townsendmt.com/event/townsend-community-red-cross-blood-drive-december-20-2021/
LOCATION:United Methodist Church
CATEGORIES:Broadwater County Calendar,Broadwater Events Calendar
END:VEVENT
BEGIN:VEVENT
DTSTART;TZID=America/Denver:20220111T180000
DTEND;TZID=America/Denver:20220111T200000
DTSTAMP:20260420T022505
CREATED:20211230T165311Z
LAST-MODIFIED:20211230T165311Z
UID:8318-1641924000-1641931200@www.townsendmt.com
SUMMARY:Board Leadership Training 2022
DESCRIPTION:
URL:https://www.townsendmt.com/event/board-leadership-training-2022/
CATEGORIES:Broadwater County Calendar,Broadwater Events Calendar,Meeting
END:VEVENT
BEGIN:VEVENT
DTSTART;TZID=America/Denver:20230322T180000
DTEND;TZID=America/Denver:20230322T200000
DTSTAMP:20260420T022505
CREATED:20230316T142206Z
LAST-MODIFIED:20230316T142420Z
UID:9150-1679508000-1679515200@www.townsendmt.com
SUMMARY:Broadwater County: Planning For Growth Stakeholder Meeting
DESCRIPTION:
URL:https://www.townsendmt.com/event/broadwater-county-planning-for-growth-stakeholder-meeting/
LOCATION:Flynn Building (formerly Opportunity Bldg)\, 416 Broadway\, Townsend
CATEGORIES:Broadwater County Calendar,Broadwater Events Calendar,Meeting
END:VEVENT
BEGIN:VEVENT
DTSTART;TZID=America/Denver:20230523T140000
DTEND;TZID=America/Denver:20230523T170000
DTSTAMP:20260420T022505
CREATED:20230427T183354Z
LAST-MODIFIED:20230427T183646Z
UID:9337-1684850400-1684861200@www.townsendmt.com
SUMMARY:Public Meeting with Montana Department Of Transportation
DESCRIPTION:  \nThere are all kinds of rumors about what MDT will be doing (or won’t be doing) in Broadwater County over the next few years. Want to find out directly from MDT? Come to a public meeting May 23rd at 2pm in the Flynn Building 416 Broadway (the old Opportunity Bank) and here directly from MDT. Gino Liva\, Butte District Operations Manager-MDT\, and others will be there to give an update and answer your questions. \nDebi Randolph\nBroadwater County Commissioner\n#406-266-9270
URL:https://www.townsendmt.com/event/public-meeting-with-montana-department-of-transportation/
LOCATION:Flynn Building (formerly Opportunity Bldg)\, 416 Broadway\, Townsend
CATEGORIES:Broadwater County Calendar,Broadwater Events Calendar,Meeting
END:VEVENT
BEGIN:VEVENT
DTSTART;TZID=America/Denver:20230719T120000
DTEND;TZID=America/Denver:20230719T150000
DTSTAMP:20260420T022505
CREATED:20230619T224623Z
LAST-MODIFIED:20230719T151436Z
UID:9500-1689768000-1689778800@www.townsendmt.com
SUMMARY:Property Assessment Town Hall Meetings
DESCRIPTION:Alert\nDue to space constraints\nThe Property Assessment Meetings have been Moved to The Community Room at the Library\n201 N Spruce\n 
URL:https://www.townsendmt.com/event/property-assessment-town-hall-meetings/
LOCATION:Flynn Building (formerly Opportunity Bldg)\, 416 Broadway\, Townsend
CATEGORIES:Broadwater County Calendar,Broadwater Events Calendar,Meeting
END:VEVENT
BEGIN:VEVENT
DTSTART;TZID=America/Denver:20230719T163000
DTEND;TZID=America/Denver:20230719T190000
DTSTAMP:20260420T022505
CREATED:20230619T224813Z
LAST-MODIFIED:20230719T151549Z
UID:9503-1689784200-1689793200@www.townsendmt.com
SUMMARY:Property Assessment Townhall Meeting
DESCRIPTION:Alert\nDue to space constraints\nThe Property Assessment Meetings have been Moved to The Community Room at the Library\n201 N Spruce\n 
URL:https://www.townsendmt.com/event/property-assessment-townhall-meeting/
LOCATION:Flynn Building (formerly Opportunity Bldg)\, 416 Broadway\, Townsend
CATEGORIES:Broadwater County Calendar,Broadwater Events Calendar,Meeting
END:VEVENT
BEGIN:VEVENT
DTSTART;TZID=America/Denver:20230914T150000
DTEND;TZID=America/Denver:20230914T180000
DTSTAMP:20260420T022505
CREATED:20230408T005314Z
LAST-MODIFIED:20230408T005314Z
UID:9255-1694703600-1694714400@www.townsendmt.com
SUMMARY:Farmer's Market
DESCRIPTION:  \nMay 25\, 2023 @ 3:00 pm – 6:00 pm \nEvery Thursday through Sept 28\, 2023 on Front Street next to the Copy Cup.
URL:https://www.townsendmt.com/event/farmers-market-18/
CATEGORIES:Broadwater County Calendar,Family Event,Summer Event
END:VEVENT
BEGIN:VEVENT
DTSTART;TZID=America/Denver:20250122T180000
DTEND;TZID=America/Denver:20250122T200000
DTSTAMP:20260420T022505
CREATED:20250110T211917Z
LAST-MODIFIED:20250110T212339Z
UID:11555-1737568800-1737576000@www.townsendmt.com
SUMMARY:Sheriff's Office Mill Levy Meeting - Winston Fire Hall
DESCRIPTION:I will be having several meetings regarding the continuation of the Sheriff’s Office Mill Levy. \nThese meetings will be:\n* January 22nd at the Winston Fire Hall\n* January 28th at the Townsend Community Room\n* January 30th at the Headwaters Livestock Auction \nThese meetings will begin at 6:00 pm. \nI would love to have as many people at these meeting to discuss what we are wanting to do this spring. \nIf anyone has any questions please reach out to me. \nNick Rauser\nBroadwater County Sheriff\n519 Broadway\nTownsend\, MT 59644\nPhone: 406.266.9265\nEmail: nrauser@co.broadwater.mt.us \n 
URL:https://www.townsendmt.com/event/sheriffs-office-mill-levy-meeting-winston-fire-hall/
LOCATION:Winston File Hall
CATEGORIES:Broadwater County Calendar,Broadwater Events Calendar,Meeting
END:VEVENT
BEGIN:VEVENT
DTSTART;TZID=America/Denver:20250128T180000
DTEND;TZID=America/Denver:20250128T200000
DTSTAMP:20260420T022505
CREATED:20250110T212245Z
LAST-MODIFIED:20250110T212427Z
UID:11559-1738087200-1738094400@www.townsendmt.com
SUMMARY:Sheriff's Office Mill Levy Meeting - Townsend Community Room
DESCRIPTION:  \nI will be having several meetings regarding the continuation of the Sheriff’s Office Mill Levy. \nThese meetings will be:\n* January 22nd at the Winston Fire Hall\n* January 28th at the Townsend Community Room\n* January 30th at the Headwaters Livestock Auction \nThese meetings will begin at 6:00 pm. \nI would love to have as many people at these meeting to discuss what we are wanting to do this spring. \nIf anyone has any questions please reach out to me. \nNick Rauser\nBroadwater County Sheriff\n519 Broadway\nTownsend\, MT 59644\nPhone: 406.266.9265\nEmail: nrauser@co.broadwater.mt.us
URL:https://www.townsendmt.com/event/sheriffs-office-mill-levy-meeting-townsend-community-room/
LOCATION:Townsend Schools Community Room
CATEGORIES:Broadwater County Calendar,Broadwater Events Calendar,Meeting
END:VEVENT
BEGIN:VEVENT
DTSTART;TZID=America/Denver:20250130T180000
DTEND;TZID=America/Denver:20250130T200000
DTSTAMP:20260420T022505
CREATED:20250110T212703Z
LAST-MODIFIED:20250110T212703Z
UID:11563-1738260000-1738267200@www.townsendmt.com
SUMMARY:Sheriff's Office Mill Levy Meeting - Headwaters Livestock Auction
DESCRIPTION:  \nI will be having several meetings regarding the continuation of the Sheriff’s Office Mill Levy. \nThese meetings will be:\n* January 22nd at the Winston Fire Hall\n* January 28th at the Townsend Community Room\n* January 30th at the Headwaters Livestock Auction \nThese meetings will begin at 6:00 pm. \nI would love to have as many people at these meeting to discuss what we are wanting to do this spring. \nIf anyone has any questions please reach out to me. \nNick Rauser\nBroadwater County Sheriff\n519 Broadway\nTownsend\, MT 59644\nPhone: 406.266.9265\nEmail: nrauser@co.broadwater.mt.us \n 
URL:https://www.townsendmt.com/event/sheriffs-office-mill-levy-meeting-headwaters-livestock-auction/
LOCATION:Headwaters Livestock\, MT\, United States
CATEGORIES:Broadwater County Calendar,Broadwater Events Calendar,Meeting
END:VEVENT
END:VCALENDAR