BEGIN:VCALENDAR
VERSION:2.0
PRODID:-//Townsend Montana - ECPv6.15.20//NONSGML v1.0//EN
CALSCALE:GREGORIAN
METHOD:PUBLISH
X-ORIGINAL-URL:https://www.townsendmt.com
X-WR-CALDESC:Events for Townsend Montana
REFRESH-INTERVAL;VALUE=DURATION:PT1H
X-Robots-Tag:noindex
X-PUBLISHED-TTL:PT1H
BEGIN:VTIMEZONE
TZID:America/Denver
BEGIN:DAYLIGHT
TZOFFSETFROM:-0700
TZOFFSETTO:-0600
TZNAME:MDT
DTSTART:20220313T090000
END:DAYLIGHT
BEGIN:STANDARD
TZOFFSETFROM:-0600
TZOFFSETTO:-0700
TZNAME:MST
DTSTART:20221106T080000
END:STANDARD
BEGIN:DAYLIGHT
TZOFFSETFROM:-0700
TZOFFSETTO:-0600
TZNAME:MDT
DTSTART:20230312T090000
END:DAYLIGHT
BEGIN:STANDARD
TZOFFSETFROM:-0600
TZOFFSETTO:-0700
TZNAME:MST
DTSTART:20231105T080000
END:STANDARD
BEGIN:DAYLIGHT
TZOFFSETFROM:-0700
TZOFFSETTO:-0600
TZNAME:MDT
DTSTART:20240310T090000
END:DAYLIGHT
BEGIN:STANDARD
TZOFFSETFROM:-0600
TZOFFSETTO:-0700
TZNAME:MST
DTSTART:20241103T080000
END:STANDARD
END:VTIMEZONE
BEGIN:VEVENT
DTSTART;TZID=America/Denver:20230719T120000
DTEND;TZID=America/Denver:20230719T150000
DTSTAMP:20260420T054508
CREATED:20230619T224623Z
LAST-MODIFIED:20230719T151436Z
UID:9500-1689768000-1689778800@www.townsendmt.com
SUMMARY:Property Assessment Town Hall Meetings
DESCRIPTION:Alert\nDue to space constraints\nThe Property Assessment Meetings have been Moved to The Community Room at the Library\n201 N Spruce\n 
URL:https://www.townsendmt.com/event/property-assessment-town-hall-meetings/
LOCATION:Flynn Building (formerly Opportunity Bldg)\, 416 Broadway\, Townsend
CATEGORIES:Broadwater County Calendar,Broadwater Events Calendar,Meeting
END:VEVENT
BEGIN:VEVENT
DTSTART;TZID=America/Denver:20230719T163000
DTEND;TZID=America/Denver:20230719T190000
DTSTAMP:20260420T054508
CREATED:20230619T224813Z
LAST-MODIFIED:20230719T151549Z
UID:9503-1689784200-1689793200@www.townsendmt.com
SUMMARY:Property Assessment Townhall Meeting
DESCRIPTION:Alert\nDue to space constraints\nThe Property Assessment Meetings have been Moved to The Community Room at the Library\n201 N Spruce\n 
URL:https://www.townsendmt.com/event/property-assessment-townhall-meeting/
LOCATION:Flynn Building (formerly Opportunity Bldg)\, 416 Broadway\, Townsend
CATEGORIES:Broadwater County Calendar,Broadwater Events Calendar,Meeting
END:VEVENT
END:VCALENDAR