BEGIN:VCALENDAR
VERSION:2.0
PRODID:-//Townsend Montana - ECPv6.15.20//NONSGML v1.0//EN
CALSCALE:GREGORIAN
METHOD:PUBLISH
X-ORIGINAL-URL:https://www.townsendmt.com
X-WR-CALDESC:Events for Townsend Montana
REFRESH-INTERVAL;VALUE=DURATION:PT1H
X-Robots-Tag:noindex
X-PUBLISHED-TTL:PT1H
BEGIN:VTIMEZONE
TZID:America/Denver
BEGIN:DAYLIGHT
TZOFFSETFROM:-0700
TZOFFSETTO:-0600
TZNAME:MDT
DTSTART:20190310T090000
END:DAYLIGHT
BEGIN:STANDARD
TZOFFSETFROM:-0600
TZOFFSETTO:-0700
TZNAME:MST
DTSTART:20191103T080000
END:STANDARD
BEGIN:DAYLIGHT
TZOFFSETFROM:-0700
TZOFFSETTO:-0600
TZNAME:MDT
DTSTART:20200308T090000
END:DAYLIGHT
BEGIN:STANDARD
TZOFFSETFROM:-0600
TZOFFSETTO:-0700
TZNAME:MST
DTSTART:20201101T080000
END:STANDARD
BEGIN:DAYLIGHT
TZOFFSETFROM:-0700
TZOFFSETTO:-0600
TZNAME:MDT
DTSTART:20210314T090000
END:DAYLIGHT
BEGIN:STANDARD
TZOFFSETFROM:-0600
TZOFFSETTO:-0700
TZNAME:MST
DTSTART:20211107T080000
END:STANDARD
END:VTIMEZONE
BEGIN:VEVENT
DTSTART;TZID=America/Denver:20200908T100000
DTEND;TZID=America/Denver:20200908T120000
DTSTAMP:20260420T120417
CREATED:20200903T163321Z
LAST-MODIFIED:20200904T193138Z
UID:6342-1599559200-1599566400@www.townsendmt.com
SUMMARY:Commission Meeting
DESCRIPTION:9.8.20 – official Commission agenda \nCommercial Lease – Campbell \nContract Amendment MT-CDBG-PL-17-03B \nJ.Nelson FT affidavit \nNelson FT \nWebsite Photo Quote \nSLVE FoF Report \n 
URL:https://www.townsendmt.com/event/commission-meeting-84/
LOCATION:Opportunity Building\, 416 Broadway
CATEGORIES:Broadwater County Calendar
END:VEVENT
BEGIN:VEVENT
DTSTART;VALUE=DATE:20200914
DTEND;VALUE=DATE:20200915
DTSTAMP:20260420T120417
CREATED:20200910T153840Z
LAST-MODIFIED:20200910T201459Z
UID:6376-1600041600-1600127999@www.townsendmt.com
SUMMARY:NO Commission Meeting
DESCRIPTION:9.14.20 – official final
URL:https://www.townsendmt.com/event/no-commission-meeting/
CATEGORIES:Broadwater County Calendar
END:VEVENT
BEGIN:VEVENT
DTSTART;TZID=America/Denver:20200914T113000
DTEND;TZID=America/Denver:20200914T133000
DTSTAMP:20260420T120417
CREATED:20200819T174203Z
LAST-MODIFIED:20200819T174306Z
UID:6226-1600083000-1600090200@www.townsendmt.com
SUMMARY:Trust Board meeting
DESCRIPTION:Agenda coming soon
URL:https://www.townsendmt.com/event/trust-board-meeting-17/
LOCATION:Broadwater County Courthouse\, 515 Broadway\, Townsend\, MT\, 59644\, United States
CATEGORIES:Broadwater County Calendar
END:VEVENT
BEGIN:VEVENT
DTSTART;TZID=America/Denver:20200916T130000
DTEND;TZID=America/Denver:20200916T150000
DTSTAMP:20260420T120417
CREATED:20200910T201709Z
LAST-MODIFIED:20200910T204412Z
UID:6383-1600261200-1600268400@www.townsendmt.com
SUMMARY:Board of Health meeting
DESCRIPTION:Agenda_Board Of Health.2020.09.16
URL:https://www.townsendmt.com/event/board-of-health-meeting-6/
LOCATION:Opportunity Building\, 416 Broadway
CATEGORIES:Broadwater County Calendar
END:VEVENT
BEGIN:VEVENT
DTSTART;TZID=America/Denver:20200916T190000
DTEND;TZID=America/Denver:20200916T210000
DTSTAMP:20260420T120417
CREATED:20200910T152836Z
LAST-MODIFIED:20200910T152836Z
UID:6371-1600282800-1600290000@www.townsendmt.com
SUMMARY:Weed Board Meeting
DESCRIPTION:September WBAgenda.docx
URL:https://www.townsendmt.com/event/weed-board-meeting-6/
LOCATION:Broadwater County Courthouse\, 515 Broadway\, Townsend\, MT\, 59644\, United States
CATEGORIES:Broadwater County Calendar
END:VEVENT
BEGIN:VEVENT
DTSTART;TZID=America/Denver:20200916T190000
DTEND;TZID=America/Denver:20200916T210000
DTSTAMP:20260420T120417
CREATED:20200914T172423Z
LAST-MODIFIED:20200914T172423Z
UID:6395-1600282800-1600290000@www.townsendmt.com
SUMMARY:Airport Board meeting
DESCRIPTION:9.16.20 Airport Board agenda
URL:https://www.townsendmt.com/event/airport-board-meeting-3/
LOCATION:City-County Airport
CATEGORIES:Broadwater County Calendar
END:VEVENT
BEGIN:VEVENT
DTSTART;TZID=America/Denver:20200921T100000
DTEND;TZID=America/Denver:20200921T120000
DTSTAMP:20260420T120417
CREATED:20200916T220345Z
LAST-MODIFIED:20200916T220345Z
UID:6417-1600682400-1600689600@www.townsendmt.com
SUMMARY:Commission Meeting
DESCRIPTION:9.21.20 – official final \nBMS_ACH_Credit \nExtension Agreement \nBroadwater Security \nBroadwater gen \nGenerator and Security Grants Acceptance Documents \nTrust Board Transfer Request \nVendor 9-10-20
URL:https://www.townsendmt.com/event/commission-meeting-85/
LOCATION:Opportunity Building\, 416 Broadway
CATEGORIES:Broadwater County Calendar
END:VEVENT
BEGIN:VEVENT
DTSTART;TZID=America/Denver:20200921T130000
DTEND;TZID=America/Denver:20200921T140000
DTSTAMP:20260420T120417
CREATED:20200916T220214Z
LAST-MODIFIED:20200916T220214Z
UID:6415-1600693200-1600696800@www.townsendmt.com
SUMMARY:TV Board meeting
DESCRIPTION:9.21.20 – TV District official final \nPBS Agreement
URL:https://www.townsendmt.com/event/tv-board-meeting/
LOCATION:Opportunity Building\, 416 Broadway
CATEGORIES:Broadwater County Calendar
END:VEVENT
BEGIN:VEVENT
DTSTART;TZID=America/Denver:20200921T180000
DTEND;TZID=America/Denver:20200921T190000
DTSTAMP:20260420T120417
CREATED:20200914T191033Z
LAST-MODIFIED:20200914T191033Z
UID:6398-1600711200-1600714800@www.townsendmt.com
SUMMARY:Recreation Board meeting
DESCRIPTION:
URL:https://www.townsendmt.com/event/recreation-board-meeting-4/
LOCATION:Opportunity Building\, 416 Broadway
CATEGORIES:Broadwater County Calendar
END:VEVENT
BEGIN:VEVENT
DTSTART;TZID=America/Denver:20200924T190000
DTEND;TZID=America/Denver:20200924T210000
DTSTAMP:20260420T120417
CREATED:20200914T191110Z
LAST-MODIFIED:20200914T202000Z
UID:6400-1600974000-1600981200@www.townsendmt.com
SUMMARY:Solid Waste Board meeting
DESCRIPTION:
URL:https://www.townsendmt.com/event/solid-waste-board-meeting-7/
LOCATION:Opportunity Building\, 416 Broadway
CATEGORIES:Broadwater County Calendar
END:VEVENT
BEGIN:VEVENT
DTSTART;TZID=America/Denver:20200924T190000
DTEND;TZID=America/Denver:20200924T210000
DTSTAMP:20260420T120417
CREATED:20200923T225854Z
LAST-MODIFIED:20200923T225854Z
UID:6459-1600974000-1600981200@www.townsendmt.com
SUMMARY:Solid Waste Board meeting
DESCRIPTION:9-24 SW Board Agenda
URL:https://www.townsendmt.com/event/solid-waste-board-meeting-8/
LOCATION:Opportunity Building\, 416 Broadway
CATEGORIES:Broadwater County Calendar
END:VEVENT
BEGIN:VEVENT
DTSTART;TZID=America/Denver:20200928T100000
DTEND;TZID=America/Denver:20200928T120000
DTSTAMP:20260420T120417
CREATED:20200923T230154Z
LAST-MODIFIED:20200924T231122Z
UID:6466-1601287200-1601294400@www.townsendmt.com
SUMMARY:Commission Meeting
DESCRIPTION:9.28.20 – official \nAPPENDIX L – PROPOSED Weed Plan \nBroadwater County PHEP TASK Order 8-25-2020 \n 
URL:https://www.townsendmt.com/event/commission-meeting-86/
LOCATION:Opportunity Building\, 416 Broadway
CATEGORIES:Broadwater County Calendar
END:VEVENT
END:VCALENDAR