BEGIN:VCALENDAR
VERSION:2.0
PRODID:-//Townsend Montana - ECPv6.15.20//NONSGML v1.0//EN
CALSCALE:GREGORIAN
METHOD:PUBLISH
X-ORIGINAL-URL:https://www.townsendmt.com
X-WR-CALDESC:Events for Townsend Montana
REFRESH-INTERVAL;VALUE=DURATION:PT1H
X-Robots-Tag:noindex
X-PUBLISHED-TTL:PT1H
BEGIN:VTIMEZONE
TZID:America/Denver
BEGIN:DAYLIGHT
TZOFFSETFROM:-0700
TZOFFSETTO:-0600
TZNAME:MDT
DTSTART:20180311T090000
END:DAYLIGHT
BEGIN:STANDARD
TZOFFSETFROM:-0600
TZOFFSETTO:-0700
TZNAME:MST
DTSTART:20181104T080000
END:STANDARD
BEGIN:DAYLIGHT
TZOFFSETFROM:-0700
TZOFFSETTO:-0600
TZNAME:MDT
DTSTART:20190310T090000
END:DAYLIGHT
BEGIN:STANDARD
TZOFFSETFROM:-0600
TZOFFSETTO:-0700
TZNAME:MST
DTSTART:20191103T080000
END:STANDARD
BEGIN:DAYLIGHT
TZOFFSETFROM:-0700
TZOFFSETTO:-0600
TZNAME:MDT
DTSTART:20200308T090000
END:DAYLIGHT
BEGIN:STANDARD
TZOFFSETFROM:-0600
TZOFFSETTO:-0700
TZNAME:MST
DTSTART:20201101T080000
END:STANDARD
END:VTIMEZONE
BEGIN:VEVENT
DTSTART;TZID=America/Denver:20191104T100000
DTEND;TZID=America/Denver:20191104T120000
DTSTAMP:20260421T041210
CREATED:20191031T210522Z
LAST-MODIFIED:20191031T213709Z
UID:4219-1572861600-1572868800@www.townsendmt.com
SUMMARY:Commission Meeting
DESCRIPTION:11.04.19 Agenda – Official
URL:https://www.townsendmt.com/event/commission-meeting-32/
LOCATION:Broadwater County Courthouse\, 515 Broadway\, Townsend\, MT\, 59644\, United States
CATEGORIES:Broadwater County Calendar
END:VEVENT
BEGIN:VEVENT
DTSTART;TZID=America/Denver:20191106T140000
DTEND;TZID=America/Denver:20191106T170000
DTSTAMP:20260421T041210
CREATED:20191105T174223Z
LAST-MODIFIED:20191105T174223Z
UID:4247-1573048800-1573059600@www.townsendmt.com
SUMMARY:Commission Meeting
DESCRIPTION:11.06.19 Agenda – Official
URL:https://www.townsendmt.com/event/commission-meeting-33/
LOCATION:Broadwater County Courthouse\, 515 Broadway\, Townsend\, MT\, 59644\, United States
CATEGORIES:Broadwater County Calendar
END:VEVENT
BEGIN:VEVENT
DTSTART;TZID=America/Denver:20191112T100000
DTEND;TZID=America/Denver:20191112T120000
DTSTAMP:20260421T041210
CREATED:20191106T183433Z
LAST-MODIFIED:20191106T183433Z
UID:4274-1573552800-1573560000@www.townsendmt.com
SUMMARY:Commission Meeting
DESCRIPTION:11.12.19 Agenda – Official2
URL:https://www.townsendmt.com/event/commission-meeting-34/
LOCATION:Broadwater County Courthouse\, 515 Broadway\, Townsend\, MT\, 59644\, United States
CATEGORIES:Broadwater County Calendar
END:VEVENT
BEGIN:VEVENT
DTSTART;TZID=America/Denver:20191113T120000
DTEND;TZID=America/Denver:20191113T130000
DTSTAMP:20260421T041210
CREATED:20191107T162409Z
LAST-MODIFIED:20191107T164708Z
UID:4280-1573646400-1573650000@www.townsendmt.com
SUMMARY:Trust Board Meeting
DESCRIPTION:Trust Board Nov 2019 agenda
URL:https://www.townsendmt.com/event/trust-board-meeting-10/
LOCATION:Broadwater County Courthouse\, 515 Broadway\, Townsend\, MT\, 59644\, United States
CATEGORIES:Broadwater County Calendar
END:VEVENT
BEGIN:VEVENT
DTSTART;TZID=America/Denver:20191118T100000
DTEND;TZID=America/Denver:20191118T120000
DTSTAMP:20260421T041210
CREATED:20191113T203237Z
LAST-MODIFIED:20191113T203248Z
UID:4294-1574071200-1574078400@www.townsendmt.com
SUMMARY:Commission Meeting
DESCRIPTION:11.18.19 Agenda – Official
URL:https://www.townsendmt.com/event/commission-meeting-36/
LOCATION:Broadwater County Courthouse\, 515 Broadway\, Townsend\, MT\, 59644\, United States
CATEGORIES:Broadwater County Calendar
END:VEVENT
BEGIN:VEVENT
DTSTART;TZID=America/Denver:20191119T130000
DTEND;TZID=America/Denver:20191119T170000
DTSTAMP:20260421T041210
CREATED:20191113T203502Z
LAST-MODIFIED:20191113T203502Z
UID:4296-1574168400-1574182800@www.townsendmt.com
SUMMARY:Commission Meeting
DESCRIPTION:11.18.19 Agenda – Official
URL:https://www.townsendmt.com/event/commission-meeting-35/
LOCATION:Canyon Ferry Field Office\, 7700 Canyon Ferry Road\, Helena\, MT
CATEGORIES:Broadwater County Calendar
END:VEVENT
BEGIN:VEVENT
DTSTART;TZID=America/Denver:20191120T080000
DTEND;TZID=America/Denver:20191120T090000
DTSTAMP:20260421T041210
CREATED:20191113T203622Z
LAST-MODIFIED:20191113T203622Z
UID:4299-1574236800-1574240400@www.townsendmt.com
SUMMARY:Commission Meeting
DESCRIPTION:11.18.19 Agenda – Official
URL:https://www.townsendmt.com/event/commission-meeting-37/
LOCATION:Broadwater County Courthouse\, 515 Broadway\, Townsend\, MT\, 59644\, United States
CATEGORIES:Broadwater County Calendar
END:VEVENT
BEGIN:VEVENT
DTSTART;TZID=America/Denver:20191120T100000
DTEND;TZID=America/Denver:20191120T120000
DTSTAMP:20260421T041210
CREATED:20191113T203758Z
LAST-MODIFIED:20191113T203758Z
UID:4301-1574244000-1574251200@www.townsendmt.com
SUMMARY:Commission Meeting
DESCRIPTION:11.18.19 Agenda – Official
URL:https://www.townsendmt.com/event/commission-meeting-38/
LOCATION:Big Bull Bar & Grill\, 6477 Hwy 287\, Winston\, MT
CATEGORIES:Broadwater County Calendar
END:VEVENT
BEGIN:VEVENT
DTSTART;TZID=America/Denver:20191120T163000
DTEND;TZID=America/Denver:20191120T170000
DTSTAMP:20260421T041210
CREATED:20191113T203900Z
LAST-MODIFIED:20191113T203900Z
UID:4304-1574267400-1574269200@www.townsendmt.com
SUMMARY:Commission Meeting
DESCRIPTION:11.18.19 Agenda – Official
URL:https://www.townsendmt.com/event/commission-meeting-39/
LOCATION:Rocky Mountain Title\, 400 N Park Ave\, Helena\, MT
CATEGORIES:Broadwater County Calendar
END:VEVENT
BEGIN:VEVENT
DTSTART;TZID=America/Denver:20191121T090000
DTEND;TZID=America/Denver:20191121T120000
DTSTAMP:20260421T041210
CREATED:20191113T204013Z
LAST-MODIFIED:20191113T204013Z
UID:4307-1574326800-1574337600@www.townsendmt.com
SUMMARY:Commission Meeting
DESCRIPTION:11.18.19 Agenda – Official
URL:https://www.townsendmt.com/event/commission-meeting-40/
LOCATION:Deep Creek area\, Townsend\, MT\, United States
CATEGORIES:Broadwater County Calendar
END:VEVENT
BEGIN:VEVENT
DTSTART;TZID=America/Denver:20191125T100000
DTEND;TZID=America/Denver:20191125T160000
DTSTAMP:20260421T041210
CREATED:20191120T201206Z
LAST-MODIFIED:20191120T223218Z
UID:4356-1574676000-1574697600@www.townsendmt.com
SUMMARY:Commission Meeting
DESCRIPTION:11.25.19 Agenda – Official
URL:https://www.townsendmt.com/event/commission-meeting-41/
LOCATION:Broadwater County Courthouse\, 515 Broadway\, Townsend\, MT\, 59644\, United States
CATEGORIES:Broadwater County Calendar
END:VEVENT
END:VCALENDAR